BEGIN:VCALENDAR
VERSION:2.0
PRODID:-//College Visits to MCC - ECPv6.15.20//NONSGML v1.0//EN
CALSCALE:GREGORIAN
METHOD:PUBLISH
X-WR-CALNAME:College Visits to MCC
X-ORIGINAL-URL:https://sites.monroecc.edu/transfer-services
X-WR-CALDESC:Events for College Visits to MCC
REFRESH-INTERVAL;VALUE=DURATION:PT1H
X-Robots-Tag:noindex
X-PUBLISHED-TTL:PT1H
BEGIN:VTIMEZONE
TZID:America/New_York
BEGIN:DAYLIGHT
TZOFFSETFROM:-0500
TZOFFSETTO:-0400
TZNAME:EDT
DTSTART:20250309T070000
END:DAYLIGHT
BEGIN:STANDARD
TZOFFSETFROM:-0400
TZOFFSETTO:-0500
TZNAME:EST
DTSTART:20251102T060000
END:STANDARD
BEGIN:DAYLIGHT
TZOFFSETFROM:-0500
TZOFFSETTO:-0400
TZNAME:EDT
DTSTART:20260308T070000
END:DAYLIGHT
BEGIN:STANDARD
TZOFFSETFROM:-0400
TZOFFSETTO:-0500
TZNAME:EST
DTSTART:20261101T060000
END:STANDARD
BEGIN:DAYLIGHT
TZOFFSETFROM:-0500
TZOFFSETTO:-0400
TZNAME:EDT
DTSTART:20270314T070000
END:DAYLIGHT
BEGIN:STANDARD
TZOFFSETFROM:-0400
TZOFFSETTO:-0500
TZNAME:EST
DTSTART:20271107T060000
END:STANDARD
END:VTIMEZONE
BEGIN:VEVENT
DTSTART;TZID=America/New_York:20260414T110000
DTEND;TZID=America/New_York:20260414T130000
DTSTAMP:20260419T114251
CREATED:20260112T182529Z
LAST-MODIFIED:20260410T131732Z
UID:1348-1776164400-1776171600@sites.monroecc.edu
SUMMARY:Quick Decision Day with SUNY Oswego at the Brighton Campus
DESCRIPTION:SUNY Oswego will be at Monroe Community College for a Quick Decision Day! This is a special event designed for transfer students ready to move forward. Meet one-on-one with SUNY Oswego’s admissions team for a quick application review and receive an admission decision or clear next steps toward completing your transfer.\n\nWhen: Tuesday\, April 14th from 11:00 am to 1:00pm\n\nPlease register for this event ahead of time.
URL:https://sites.monroecc.edu/transfer-services/event/suny-oswego-at-the-brighton-campus-3/
CATEGORIES:Brighton Campus,College Information Tables
END:VEVENT
BEGIN:VEVENT
DTSTART;TZID=America/New_York:20260414T110000
DTEND;TZID=America/New_York:20260414T140000
DTSTAMP:20260419T114251
CREATED:20251215T164331Z
LAST-MODIFIED:20251215T164331Z
UID:1327-1776164400-1776175200@sites.monroecc.edu
SUMMARY:1:1 Transfer Advising with St. John Fisher University at the Brighton Campus
DESCRIPTION:Schedule an individual meeting to discuss your transfer plans with the 4-year college representative. Students are seen by appointment only at the Career Services office in Building 3\, Room 108 on the Brighton Campus. Check for times available\, and book your appointment now.
URL:https://sites.monroecc.edu/transfer-services/event/11-transfer-advising-with-st-john-fisher-university-at-the-brighton-campus-3/
CATEGORIES:1:1 Appointments,Brighton Campus
END:VEVENT
END:VCALENDAR