BEGIN:VCALENDAR
VERSION:2.0
PRODID:-//Middle States Reaccreditation - ECPv6.15.20//NONSGML v1.0//EN
CALSCALE:GREGORIAN
METHOD:PUBLISH
X-ORIGINAL-URL:https://sites.monroecc.edu/middle-states
X-WR-CALDESC:Events for Middle States Reaccreditation
REFRESH-INTERVAL;VALUE=DURATION:PT1H
X-Robots-Tag:noindex
X-PUBLISHED-TTL:PT1H
BEGIN:VTIMEZONE
TZID:America/New_York
BEGIN:DAYLIGHT
TZOFFSETFROM:-0500
TZOFFSETTO:-0400
TZNAME:EDT
DTSTART:20240310T070000
END:DAYLIGHT
BEGIN:STANDARD
TZOFFSETFROM:-0400
TZOFFSETTO:-0500
TZNAME:EST
DTSTART:20241103T060000
END:STANDARD
BEGIN:DAYLIGHT
TZOFFSETFROM:-0500
TZOFFSETTO:-0400
TZNAME:EDT
DTSTART:20250309T070000
END:DAYLIGHT
BEGIN:STANDARD
TZOFFSETFROM:-0400
TZOFFSETTO:-0500
TZNAME:EST
DTSTART:20251102T060000
END:STANDARD
BEGIN:DAYLIGHT
TZOFFSETFROM:-0500
TZOFFSETTO:-0400
TZNAME:EDT
DTSTART:20260308T070000
END:DAYLIGHT
BEGIN:STANDARD
TZOFFSETFROM:-0400
TZOFFSETTO:-0500
TZNAME:EST
DTSTART:20261101T060000
END:STANDARD
END:VTIMEZONE
BEGIN:VEVENT
DTSTART;VALUE=DATE:20251101
DTEND;VALUE=DATE:20251102
DTSTAMP:20260424T213801
CREATED:20240418T124046Z
LAST-MODIFIED:20240418T124630Z
UID:160-1761955200-1762041599@sites.monroecc.edu
SUMMARY:November Focus
DESCRIPTION:Revise Self-Study Report based on community\, ELT\, and BOT feedback\, ensuring it reflects MCC accurately and aligns with MSCHE standards and requirements; Plan Self-Study on-site visit.
URL:https://sites.monroecc.edu/middle-states/calendar/november-2025/
CATEGORIES:Monthly Focus
END:VEVENT
BEGIN:VEVENT
DTSTART;VALUE=DATE:20251107
DTEND;VALUE=DATE:20251108
DTSTAMP:20260424T213801
CREATED:20260319T114457Z
LAST-MODIFIED:20260319T114457Z
UID:797-1762473600-1762559999@sites.monroecc.edu
SUMMARY:Trib Article Published
DESCRIPTION:Trib article published to Faculty/Staff.
URL:https://sites.monroecc.edu/middle-states/calendar/trib-article-published/
CATEGORIES:Other
END:VEVENT
BEGIN:VEVENT
DTSTART;VALUE=DATE:20251120
DTEND;VALUE=DATE:20251121
DTSTAMP:20260424T213801
CREATED:20251117T133819Z
LAST-MODIFIED:20251117T133819Z
UID:750-1763596800-1763683199@sites.monroecc.edu
SUMMARY:Data Deep Dive
DESCRIPTION:Data Deep Dive: MSCHE General Information\, MSCHE co-chairs present
URL:https://sites.monroecc.edu/middle-states/calendar/data-deep-dive/
END:VEVENT
END:VCALENDAR