BEGIN:VCALENDAR
VERSION:2.0
PRODID:-//Middle States Reaccreditation - ECPv6.15.20//NONSGML v1.0//EN
CALSCALE:GREGORIAN
METHOD:PUBLISH
X-WR-CALNAME:Middle States Reaccreditation
X-ORIGINAL-URL:https://sites.monroecc.edu/middle-states
X-WR-CALDESC:Events for Middle States Reaccreditation
REFRESH-INTERVAL;VALUE=DURATION:PT1H
X-Robots-Tag:noindex
X-PUBLISHED-TTL:PT1H
BEGIN:VTIMEZONE
TZID:America/New_York
BEGIN:DAYLIGHT
TZOFFSETFROM:-0500
TZOFFSETTO:-0400
TZNAME:EDT
DTSTART:20240310T070000
END:DAYLIGHT
BEGIN:STANDARD
TZOFFSETFROM:-0400
TZOFFSETTO:-0500
TZNAME:EST
DTSTART:20241103T060000
END:STANDARD
BEGIN:DAYLIGHT
TZOFFSETFROM:-0500
TZOFFSETTO:-0400
TZNAME:EDT
DTSTART:20250309T070000
END:DAYLIGHT
BEGIN:STANDARD
TZOFFSETFROM:-0400
TZOFFSETTO:-0500
TZNAME:EST
DTSTART:20251102T060000
END:STANDARD
BEGIN:DAYLIGHT
TZOFFSETFROM:-0500
TZOFFSETTO:-0400
TZNAME:EDT
DTSTART:20260308T070000
END:DAYLIGHT
BEGIN:STANDARD
TZOFFSETFROM:-0400
TZOFFSETTO:-0500
TZNAME:EST
DTSTART:20261101T060000
END:STANDARD
END:VTIMEZONE
BEGIN:VEVENT
DTSTART;VALUE=DATE:20250101
DTEND;VALUE=DATE:20250102
DTSTAMP:20260425T203257
CREATED:20240418T123346Z
LAST-MODIFIED:20240418T123346Z
UID:143-1735689600-1735775999@sites.monroecc.edu
SUMMARY:Spring 2025: Working Group Report Submission
DESCRIPTION:Collate documents and evidence\, draft Self-Study Report\, and provide updates to campus community and stakeholders.
URL:https://sites.monroecc.edu/middle-states/calendar/spring-2025-working-group-report-submission/
CATEGORIES:Reaccreditation Updates
END:VEVENT
BEGIN:VEVENT
DTSTART;VALUE=DATE:20250101
DTEND;VALUE=DATE:20250102
DTSTAMP:20260425T203257
CREATED:20240418T123808Z
LAST-MODIFIED:20240418T124553Z
UID:148-1735689600-1735775999@sites.monroecc.edu
SUMMARY:January Focus
DESCRIPTION:Review and collate reports from the Working Groups for each standard; Get appropriate approvals and feedback.
URL:https://sites.monroecc.edu/middle-states/calendar/january-2025/
CATEGORIES:Monthly Focus
END:VEVENT
BEGIN:VEVENT
DTSTART;TZID=America/New_York:20250106T130000
DTEND;TZID=America/New_York:20250106T140000
DTSTAMP:20260425T203257
CREATED:20250114T201009Z
LAST-MODIFIED:20250114T201009Z
UID:483-1736168400-1736172000@sites.monroecc.edu
SUMMARY:Standard I Working Group
DESCRIPTION:
URL:https://sites.monroecc.edu/middle-states/calendar/standard-i-working-group-5/
LOCATION:03-115 & Zoom
CATEGORIES:Standard I Working Group
END:VEVENT
BEGIN:VEVENT
DTSTART;TZID=America/New_York:20250108T113000
DTEND;TZID=America/New_York:20250108T123000
DTSTAMP:20260425T203257
CREATED:20250114T201258Z
LAST-MODIFIED:20250114T201258Z
UID:487-1736335800-1736339400@sites.monroecc.edu
SUMMARY:Standard VI Working Group
DESCRIPTION:
URL:https://sites.monroecc.edu/middle-states/calendar/standard-vi-working-group-11/
LOCATION:02-423
CATEGORIES:Standard VI Working Group
END:VEVENT
BEGIN:VEVENT
DTSTART;TZID=America/New_York:20250115T130000
DTEND;TZID=America/New_York:20250115T140000
DTSTAMP:20260425T203257
CREATED:20250114T201444Z
LAST-MODIFIED:20250114T201444Z
UID:490-1736946000-1736949600@sites.monroecc.edu
SUMMARY:Standard VI Working Group
DESCRIPTION:
URL:https://sites.monroecc.edu/middle-states/calendar/standard-vi-working-group-12/
LOCATION:02-423
CATEGORIES:Standard VI Working Group
END:VEVENT
BEGIN:VEVENT
DTSTART;TZID=America/New_York:20250123T140000
DTEND;TZID=America/New_York:20250123T150000
DTSTAMP:20260425T203257
CREATED:20250114T202125Z
LAST-MODIFIED:20250114T202125Z
UID:498-1737640800-1737644400@sites.monroecc.edu
SUMMARY:Leadership Meeting
DESCRIPTION:
URL:https://sites.monroecc.edu/middle-states/calendar/leadership-meeting-2/
LOCATION:Zoom
CATEGORIES:Leadership Meeting
END:VEVENT
BEGIN:VEVENT
DTSTART;TZID=America/New_York:20250124T100000
DTEND;TZID=America/New_York:20250124T110000
DTSTAMP:20260425T203257
CREATED:20250114T201627Z
LAST-MODIFIED:20250114T201802Z
UID:492-1737712800-1737716400@sites.monroecc.edu
SUMMARY:Standard V Working Group
DESCRIPTION:
URL:https://sites.monroecc.edu/middle-states/calendar/leadership-meeting/
LOCATION:Third Floor Conference Room 1-307
CATEGORIES:Standard V Working Group
END:VEVENT
BEGIN:VEVENT
DTSTART;TZID=America/New_York:20250129T120000
DTEND;TZID=America/New_York:20250129T130000
DTSTAMP:20260425T203257
CREATED:20250114T201853Z
LAST-MODIFIED:20250114T201853Z
UID:496-1738152000-1738155600@sites.monroecc.edu
SUMMARY:Steering Committee Meeting
DESCRIPTION:
URL:https://sites.monroecc.edu/middle-states/calendar/steering-committee-meeting/
LOCATION:Zoom
CATEGORIES:Steering Committee
END:VEVENT
BEGIN:VEVENT
DTSTART;VALUE=DATE:20250201
DTEND;VALUE=DATE:20250202
DTSTAMP:20260425T203257
CREATED:20240418T123833Z
LAST-MODIFIED:20240418T124558Z
UID:150-1738368000-1738454399@sites.monroecc.edu
SUMMARY:February Focus
DESCRIPTION:Communicate regularly with the campus community about the progress and share drafts of Working Group reports.
URL:https://sites.monroecc.edu/middle-states/calendar/february-2025/
CATEGORIES:Monthly Focus
END:VEVENT
BEGIN:VEVENT
DTSTART;TZID=America/New_York:20250203T104500
DTEND;TZID=America/New_York:20250203T114500
DTSTAMP:20260425T203257
CREATED:20250114T204755Z
LAST-MODIFIED:20250114T204755Z
UID:500-1738579500-1738583100@sites.monroecc.edu
SUMMARY:Leadership Meeting
DESCRIPTION:
URL:https://sites.monroecc.edu/middle-states/calendar/leadership-meeting-3/
LOCATION:Zoom
CATEGORIES:Leadership Meeting
END:VEVENT
BEGIN:VEVENT
DTSTART;TZID=America/New_York:20250205T120000
DTEND;TZID=America/New_York:20250205T130000
DTSTAMP:20260425T203257
CREATED:20250114T204832Z
LAST-MODIFIED:20250114T204950Z
UID:502-1738756800-1738760400@sites.monroecc.edu
SUMMARY:Standard IV Working Group
DESCRIPTION:
URL:https://sites.monroecc.edu/middle-states/calendar/leadership-meeting-4/
LOCATION:Zoom
CATEGORIES:Standard IV Working Group
END:VEVENT
BEGIN:VEVENT
DTSTART;TZID=America/New_York:20250207T100000
DTEND;TZID=America/New_York:20250207T110000
DTSTAMP:20260425T203257
CREATED:20250114T205034Z
LAST-MODIFIED:20250114T205034Z
UID:506-1738922400-1738926000@sites.monroecc.edu
SUMMARY:Standard V Working Group
DESCRIPTION:
URL:https://sites.monroecc.edu/middle-states/calendar/standard-v-working-group-9/
LOCATION:Third Floor Conference Room 1-307
CATEGORIES:Standard V Working Group
END:VEVENT
BEGIN:VEVENT
DTSTART;TZID=America/New_York:20250212T120000
DTEND;TZID=America/New_York:20250212T130000
DTSTAMP:20260425T203257
CREATED:20250114T205221Z
LAST-MODIFIED:20250114T205221Z
UID:510-1739361600-1739365200@sites.monroecc.edu
SUMMARY:Steering Committee
DESCRIPTION:
URL:https://sites.monroecc.edu/middle-states/calendar/steering-committee-9/
LOCATION:Zoom
CATEGORIES:Steering Committee
END:VEVENT
BEGIN:VEVENT
DTSTART;TZID=America/New_York:20250219T120000
DTEND;TZID=America/New_York:20250219T130000
DTSTAMP:20260425T203257
CREATED:20250114T205532Z
LAST-MODIFIED:20250115T145003Z
UID:516-1739966400-1739970000@sites.monroecc.edu
SUMMARY:Standard IV Working Group
DESCRIPTION:
URL:https://sites.monroecc.edu/middle-states/calendar/standard-iv-working-group-8/
LOCATION:Zoom
CATEGORIES:Standard IV Working Group
END:VEVENT
BEGIN:VEVENT
DTSTART;TZID=America/New_York:20250219T140000
DTEND;TZID=America/New_York:20250219T150000
DTSTAMP:20260425T203257
CREATED:20250114T205435Z
LAST-MODIFIED:20250114T205435Z
UID:514-1739973600-1739977200@sites.monroecc.edu
SUMMARY:Leadership Meeting
DESCRIPTION:
URL:https://sites.monroecc.edu/middle-states/calendar/leadership-meeting-5/
LOCATION:Zoom
CATEGORIES:Leadership Meeting
END:VEVENT
BEGIN:VEVENT
DTSTART;TZID=America/New_York:20250221T100000
DTEND;TZID=America/New_York:20250221T110000
DTSTAMP:20260425T203257
CREATED:20250114T205126Z
LAST-MODIFIED:20250115T130410Z
UID:508-1740132000-1740135600@sites.monroecc.edu
SUMMARY:Standard V Working Group
DESCRIPTION:
URL:https://sites.monroecc.edu/middle-states/calendar/standard-iv-working-group-6/
LOCATION:Third Floor Conference Room 1-307
CATEGORIES:Standard V Working Group
END:VEVENT
BEGIN:VEVENT
DTSTART;TZID=America/New_York:20250226T120000
DTEND;TZID=America/New_York:20250226T130000
DTSTAMP:20260425T203257
CREATED:20250114T205252Z
LAST-MODIFIED:20250114T205252Z
UID:512-1740571200-1740574800@sites.monroecc.edu
SUMMARY:Steering Committee
DESCRIPTION:
URL:https://sites.monroecc.edu/middle-states/calendar/steering-committee-10/
LOCATION:Zoom
CATEGORIES:Steering Committee
END:VEVENT
BEGIN:VEVENT
DTSTART;VALUE=DATE:20250228
DTEND;VALUE=DATE:20250301
DTSTAMP:20260425T203257
CREATED:20250114T205622Z
LAST-MODIFIED:20250123T153034Z
UID:518-1740700800-1740787199@sites.monroecc.edu
SUMMARY:Preliminary Draft of Working Groups Report
DESCRIPTION:
URL:https://sites.monroecc.edu/middle-states/calendar/preliminary-draft-of-working-groups-report/
CATEGORIES:Working Group Meetings
END:VEVENT
BEGIN:VEVENT
DTSTART;TZID=America/New_York:20250305T120000
DTEND;TZID=America/New_York:20250305T130000
DTSTAMP:20260425T203257
CREATED:20250115T131014Z
LAST-MODIFIED:20250115T131133Z
UID:521-1741176000-1741179600@sites.monroecc.edu
SUMMARY:Standard IV Working Group
DESCRIPTION:
URL:https://sites.monroecc.edu/middle-states/calendar/standard-iv-working-group-9/
LOCATION:Zoom
CATEGORIES:Standard IV Working Group
END:VEVENT
BEGIN:VEVENT
DTSTART;TZID=America/New_York:20250307T100000
DTEND;TZID=America/New_York:20250307T110000
DTSTAMP:20260425T203257
CREATED:20250115T131056Z
LAST-MODIFIED:20250115T131056Z
UID:523-1741341600-1741345200@sites.monroecc.edu
SUMMARY:Standard V Working Group
DESCRIPTION:
URL:https://sites.monroecc.edu/middle-states/calendar/standard-v-working-group-10/
LOCATION:Third Floor Conference Room 1-307
CATEGORIES:Standard V Working Group
END:VEVENT
BEGIN:VEVENT
DTSTART;TZID=America/New_York:20250319T120000
DTEND;TZID=America/New_York:20250319T130000
DTSTAMP:20260425T203257
CREATED:20250115T131226Z
LAST-MODIFIED:20250115T131226Z
UID:525-1742385600-1742389200@sites.monroecc.edu
SUMMARY:Standard IV Working Group
DESCRIPTION:
URL:https://sites.monroecc.edu/middle-states/calendar/standard-iv-working-group-10/
LOCATION:Zoom
CATEGORIES:Standard IV Working Group
END:VEVENT
BEGIN:VEVENT
DTSTART;TZID=America/New_York:20250320T150000
DTEND;TZID=America/New_York:20250320T160000
DTSTAMP:20260425T203257
CREATED:20250115T131439Z
LAST-MODIFIED:20250115T131439Z
UID:531-1742482800-1742486400@sites.monroecc.edu
SUMMARY:Leadership Meeting
DESCRIPTION:
URL:https://sites.monroecc.edu/middle-states/calendar/leadership-meeting-6/
LOCATION:Zoom
CATEGORIES:Leadership Meeting
END:VEVENT
BEGIN:VEVENT
DTSTART;TZID=America/New_York:20250321T100000
DTEND;TZID=America/New_York:20250321T110000
DTSTAMP:20260425T203257
CREATED:20250115T131301Z
LAST-MODIFIED:20250115T131301Z
UID:527-1742551200-1742554800@sites.monroecc.edu
SUMMARY:Standard V Working Group
DESCRIPTION:
URL:https://sites.monroecc.edu/middle-states/calendar/standard-v-working-group-11/
LOCATION:Third Floor Conference Room 1-307
CATEGORIES:Standard V Working Group
END:VEVENT
BEGIN:VEVENT
DTSTART;TZID=America/New_York:20250326T120000
DTEND;TZID=America/New_York:20250326T130000
DTSTAMP:20260425T203257
CREATED:20250115T131514Z
LAST-MODIFIED:20250115T131514Z
UID:533-1742990400-1742994000@sites.monroecc.edu
SUMMARY:Steering Committee
DESCRIPTION:
URL:https://sites.monroecc.edu/middle-states/calendar/steering-committee-12/
LOCATION:Zoom
CATEGORIES:Steering Committee
END:VEVENT
BEGIN:VEVENT
DTSTART;VALUE=DATE:20250401
DTEND;VALUE=DATE:20250402
DTSTAMP:20260425T203257
CREATED:20240418T123857Z
LAST-MODIFIED:20240418T124612Z
UID:152-1743465600-1743551999@sites.monroecc.edu
SUMMARY:April Focus
DESCRIPTION:Complete initial draft of the Self-Study Report; Review and revise the report with input from Working Groups and stakeholders.
URL:https://sites.monroecc.edu/middle-states/calendar/april-2025/
CATEGORIES:Monthly Focus
END:VEVENT
BEGIN:VEVENT
DTSTART;TZID=America/New_York:20250402T120000
DTEND;TZID=America/New_York:20250402T130000
DTSTAMP:20260425T203257
CREATED:20250115T131723Z
LAST-MODIFIED:20250415T130732Z
UID:535-1743595200-1743598800@sites.monroecc.edu
SUMMARY:Standard IV Working Group (Canceled)
DESCRIPTION:Canceled
URL:https://sites.monroecc.edu/middle-states/calendar/standard-iv-working-group-11/
LOCATION:Zoom
CATEGORIES:Standard IV Working Group
END:VEVENT
BEGIN:VEVENT
DTSTART;TZID=America/New_York:20250402T133000
DTEND;TZID=America/New_York:20250402T143000
DTSTAMP:20260425T203257
CREATED:20250115T131815Z
LAST-MODIFIED:20250115T131815Z
UID:537-1743600600-1743604200@sites.monroecc.edu
SUMMARY:Leadership Meeting
DESCRIPTION:
URL:https://sites.monroecc.edu/middle-states/calendar/leadership-meeting-7/
LOCATION:Zoom
CATEGORIES:Leadership Meeting
END:VEVENT
BEGIN:VEVENT
DTSTART;VALUE=DATE:20250404
DTEND;VALUE=DATE:20250405
DTSTAMP:20260425T203257
CREATED:20250115T131916Z
LAST-MODIFIED:20250115T131916Z
UID:539-1743724800-1743811199@sites.monroecc.edu
SUMMARY:Final Working Group Report
DESCRIPTION:
URL:https://sites.monroecc.edu/middle-states/calendar/final-working-group-report/
CATEGORIES:Monthly Focus
END:VEVENT
BEGIN:VEVENT
DTSTART;TZID=America/New_York:20250404T100000
DTEND;TZID=America/New_York:20250404T110000
DTSTAMP:20260425T203257
CREATED:20250115T133255Z
LAST-MODIFIED:20250115T133255Z
UID:542-1743760800-1743764400@sites.monroecc.edu
SUMMARY:Standard V Working Group
DESCRIPTION:
URL:https://sites.monroecc.edu/middle-states/calendar/standard-v-working-group-12/
LOCATION:Third Floor Conference Room 1-307
CATEGORIES:Standard V Working Group
END:VEVENT
BEGIN:VEVENT
DTSTART;VALUE=DATE:20250408
DTEND;VALUE=DATE:20250409
DTSTAMP:20260425T203257
CREATED:20250415T130626Z
LAST-MODIFIED:20250415T130626Z
UID:600-1744070400-1744156799@sites.monroecc.edu
SUMMARY:SGA Presentation by Dr. Chen
DESCRIPTION:
URL:https://sites.monroecc.edu/middle-states/calendar/sga-presentation-by-dr-chen/
END:VEVENT
END:VCALENDAR