BEGIN:VCALENDAR
VERSION:2.0
PRODID:-//Middle States Reaccreditation - ECPv6.15.20//NONSGML v1.0//EN
CALSCALE:GREGORIAN
METHOD:PUBLISH
X-ORIGINAL-URL:https://sites.monroecc.edu/middle-states
X-WR-CALDESC:Events for Middle States Reaccreditation
REFRESH-INTERVAL;VALUE=DURATION:PT1H
X-Robots-Tag:noindex
X-PUBLISHED-TTL:PT1H
BEGIN:VTIMEZONE
TZID:America/New_York
BEGIN:DAYLIGHT
TZOFFSETFROM:-0500
TZOFFSETTO:-0400
TZNAME:EDT
DTSTART:20230312T070000
END:DAYLIGHT
BEGIN:STANDARD
TZOFFSETFROM:-0400
TZOFFSETTO:-0500
TZNAME:EST
DTSTART:20231105T060000
END:STANDARD
BEGIN:DAYLIGHT
TZOFFSETFROM:-0500
TZOFFSETTO:-0400
TZNAME:EDT
DTSTART:20240310T070000
END:DAYLIGHT
BEGIN:STANDARD
TZOFFSETFROM:-0400
TZOFFSETTO:-0500
TZNAME:EST
DTSTART:20241103T060000
END:STANDARD
BEGIN:DAYLIGHT
TZOFFSETFROM:-0500
TZOFFSETTO:-0400
TZNAME:EDT
DTSTART:20250309T070000
END:DAYLIGHT
BEGIN:STANDARD
TZOFFSETFROM:-0400
TZOFFSETTO:-0500
TZNAME:EST
DTSTART:20251102T060000
END:STANDARD
END:VTIMEZONE
BEGIN:VEVENT
DTSTART;TZID=America/New_York:20240418T110000
DTEND;TZID=America/New_York:20240418T120000
DTSTAMP:20260425T174626
CREATED:20240514T144755Z
LAST-MODIFIED:20240514T144755Z
UID:305-1713438000-1713441600@sites.monroecc.edu
SUMMARY:Standard VII Working Group Meeting
DESCRIPTION:
URL:https://sites.monroecc.edu/middle-states/calendar/standard-vii-working-group-meeting-3/
LOCATION:Zoom
CATEGORIES:Standard VII Working Group,Working Group Meetings
END:VEVENT
BEGIN:VEVENT
DTSTART;TZID=America/New_York:20240417T120000
DTEND;TZID=America/New_York:20240417T130000
DTSTAMP:20260425T174626
CREATED:20240514T144351Z
LAST-MODIFIED:20240514T144351Z
UID:291-1713355200-1713358800@sites.monroecc.edu
SUMMARY:Standard VI Working Group Meeting
DESCRIPTION:
URL:https://sites.monroecc.edu/middle-states/calendar/standard-vi-working-group-meeting-4/
LOCATION:Zoom
CATEGORIES:Standard VI Working Group,Working Group Meetings
END:VEVENT
BEGIN:VEVENT
DTSTART;TZID=America/New_York:20240415T150000
DTEND;TZID=America/New_York:20240415T160000
DTSTAMP:20260425T174626
CREATED:20240514T125917Z
LAST-MODIFIED:20240514T125917Z
UID:240-1713193200-1713196800@sites.monroecc.edu
SUMMARY:Standard I Working Group Meeting
DESCRIPTION:
URL:https://sites.monroecc.edu/middle-states/calendar/standard-i-working-group-meeting-6/
LOCATION:Zoom
CATEGORIES:Standard I Working Group,Working Group Meetings
END:VEVENT
BEGIN:VEVENT
DTSTART;TZID=America/New_York:20240412T120000
DTEND;TZID=America/New_York:20240412T130000
DTSTAMP:20260425T174626
CREATED:20240514T143731Z
LAST-MODIFIED:20240514T143731Z
UID:276-1712923200-1712926800@sites.monroecc.edu
SUMMARY:Standard V Working Group Meeting
DESCRIPTION:
URL:https://sites.monroecc.edu/middle-states/calendar/standard-v-working-group-meeting-3/
LOCATION:Zoom
CATEGORIES:Standard V Working Group,Working Group Meetings
END:VEVENT
BEGIN:VEVENT
DTSTART;TZID=America/New_York:20240410T120000
DTEND;TZID=America/New_York:20240410T130000
DTSTAMP:20260425T174626
CREATED:20240514T144318Z
LAST-MODIFIED:20240514T144318Z
UID:289-1712750400-1712754000@sites.monroecc.edu
SUMMARY:Standard VI Working Group Meeting
DESCRIPTION:
URL:https://sites.monroecc.edu/middle-states/calendar/standard-vi-working-group-meeting-3/
LOCATION:Zoom
CATEGORIES:Standard VI Working Group,Working Group Meetings
END:VEVENT
BEGIN:VEVENT
DTSTART;TZID=America/New_York:20240410T090000
DTEND;TZID=America/New_York:20240410T100000
DTSTAMP:20260425T174626
CREATED:20240514T142644Z
LAST-MODIFIED:20240514T142644Z
UID:260-1712739600-1712743200@sites.monroecc.edu
SUMMARY:Standard IV Working Group Meeting
DESCRIPTION:
URL:https://sites.monroecc.edu/middle-states/calendar/standard-iv-working-group-meeting-4/
LOCATION:Zoom
CATEGORIES:Standard IV Working Group,Working Group Meetings
END:VEVENT
BEGIN:VEVENT
DTSTART;TZID=America/New_York:20240408T110000
DTEND;TZID=America/New_York:20240408T120000
DTSTAMP:20260425T174626
CREATED:20240514T131305Z
LAST-MODIFIED:20240514T131305Z
UID:246-1712574000-1712577600@sites.monroecc.edu
SUMMARY:Standard II Working Group Meeting
DESCRIPTION:
URL:https://sites.monroecc.edu/middle-states/calendar/standard-ii-working-group-meeting-3/
LOCATION:Zoom
CATEGORIES:Standard II Working Group,Working Group Meetings
END:VEVENT
BEGIN:VEVENT
DTSTART;TZID=America/New_York:20240408T090000
DTEND;TZID=America/New_York:20240408T100000
DTSTAMP:20260425T174626
CREATED:20240514T142421Z
LAST-MODIFIED:20240514T142421Z
UID:252-1712566800-1712570400@sites.monroecc.edu
SUMMARY:Standard III Working Group Meeting
DESCRIPTION:
URL:https://sites.monroecc.edu/middle-states/calendar/standard-iii-working-group-meeting-3/
LOCATION:Zoom
CATEGORIES:Standard III Working Group,Working Group Meetings
END:VEVENT
BEGIN:VEVENT
DTSTART;TZID=America/New_York:20240401T150000
DTEND;TZID=America/New_York:20240401T160000
DTSTAMP:20260425T174626
CREATED:20240514T142616Z
LAST-MODIFIED:20240514T142616Z
UID:258-1711983600-1711987200@sites.monroecc.edu
SUMMARY:Standard IV Working Group Meeting
DESCRIPTION:
URL:https://sites.monroecc.edu/middle-states/calendar/standard-iv-working-group-meeting-3/
LOCATION:Zoom
CATEGORIES:Standard IV Working Group,Working Group Meetings
END:VEVENT
BEGIN:VEVENT
DTSTART;TZID=America/New_York:20240401T150000
DTEND;TZID=America/New_York:20240401T160000
DTSTAMP:20260425T174626
CREATED:20240514T125746Z
LAST-MODIFIED:20240514T125746Z
UID:234-1711983600-1711987200@sites.monroecc.edu
SUMMARY:Standard I Working Group Meeting
DESCRIPTION:
URL:https://sites.monroecc.edu/middle-states/calendar/standard-i-working-group-meeting-3/
LOCATION:Zoom
CATEGORIES:Standard I Working Group,Working Group Meetings
END:VEVENT
BEGIN:VEVENT
DTSTART;TZID=America/New_York:20240322T120000
DTEND;TZID=America/New_York:20240322T130000
DTSTAMP:20260425T174626
CREATED:20240514T143702Z
LAST-MODIFIED:20240514T143702Z
UID:274-1711108800-1711112400@sites.monroecc.edu
SUMMARY:Standard V Working Group Meeting
DESCRIPTION:
URL:https://sites.monroecc.edu/middle-states/calendar/standard-v-working-group-meeting-2/
LOCATION:Zoom
CATEGORIES:Standard V Working Group,Working Group Meetings
END:VEVENT
BEGIN:VEVENT
DTSTART;TZID=America/New_York:20240322T120000
DTEND;TZID=America/New_York:20240322T130000
DTSTAMP:20260425T174626
CREATED:20240514T142351Z
LAST-MODIFIED:20240514T142351Z
UID:250-1711108800-1711112400@sites.monroecc.edu
SUMMARY:Standard III Working Group Meeting
DESCRIPTION:
URL:https://sites.monroecc.edu/middle-states/calendar/standard-iii-working-group-meeting-2/
LOCATION:Zoom
CATEGORIES:Standard III Working Group,Working Group Meetings
END:VEVENT
BEGIN:VEVENT
DTSTART;TZID=America/New_York:20240321T110000
DTEND;TZID=America/New_York:20240321T120000
DTSTAMP:20260425T174626
CREATED:20240514T144726Z
LAST-MODIFIED:20240514T144726Z
UID:303-1711018800-1711022400@sites.monroecc.edu
SUMMARY:Standard VII Working Group Meeting
DESCRIPTION:
URL:https://sites.monroecc.edu/middle-states/calendar/standard-vii-working-group-meeting-2/
LOCATION:Zoom
CATEGORIES:Standard VII Working Group,Working Group Meetings
END:VEVENT
BEGIN:VEVENT
DTSTART;TZID=America/New_York:20240320T120000
DTEND;TZID=America/New_York:20240320T130000
DTSTAMP:20260425T174626
CREATED:20240514T144248Z
LAST-MODIFIED:20240514T144248Z
UID:287-1710936000-1710939600@sites.monroecc.edu
SUMMARY:Standard VI Working Group Meeting
DESCRIPTION:
URL:https://sites.monroecc.edu/middle-states/calendar/standard-vi-working-group-meeting-2/
LOCATION:Zoom
CATEGORIES:Standard VI Working Group,Working Group Meetings
END:VEVENT
BEGIN:VEVENT
DTSTART;TZID=America/New_York:20240320T120000
DTEND;TZID=America/New_York:20240320T130000
DTSTAMP:20260425T174626
CREATED:20240514T130049Z
LAST-MODIFIED:20240514T130049Z
UID:244-1710936000-1710939600@sites.monroecc.edu
SUMMARY:Standard II Working Group Meeting
DESCRIPTION:
URL:https://sites.monroecc.edu/middle-states/calendar/standard-ii-working-group-meeting-2/
LOCATION:Zoom
CATEGORIES:Standard II Working Group,Working Group Meetings
END:VEVENT
BEGIN:VEVENT
DTSTART;TZID=America/New_York:20240320T110000
DTEND;TZID=America/New_York:20240320T120000
DTSTAMP:20260425T174626
CREATED:20240514T142537Z
LAST-MODIFIED:20240514T142537Z
UID:256-1710932400-1710936000@sites.monroecc.edu
SUMMARY:Standard IV Working Group Meeting
DESCRIPTION:
URL:https://sites.monroecc.edu/middle-states/calendar/standard-iv-working-group-meeting-2/
LOCATION:Zoom
CATEGORIES:Standard IV Working Group,Working Group Meetings
END:VEVENT
BEGIN:VEVENT
DTSTART;TZID=America/New_York:20240318T150000
DTEND;TZID=America/New_York:20240318T160000
DTSTAMP:20260425T174626
CREATED:20240514T125707Z
LAST-MODIFIED:20240514T125707Z
UID:232-1710774000-1710777600@sites.monroecc.edu
SUMMARY:Standard I Working Group Meeting
DESCRIPTION:
URL:https://sites.monroecc.edu/middle-states/calendar/standard-i-working-group-meeting-2/
LOCATION:Zoom
CATEGORIES:Standard I Working Group,Working Group Meetings
END:VEVENT
BEGIN:VEVENT
DTSTART;TZID=America/New_York:20240314T100000
DTEND;TZID=America/New_York:20240314T110000
DTSTAMP:20260425T174626
CREATED:20240514T142506Z
LAST-MODIFIED:20240514T142506Z
UID:254-1710410400-1710414000@sites.monroecc.edu
SUMMARY:Standard IV Working Group Meeting
DESCRIPTION:
URL:https://sites.monroecc.edu/middle-states/calendar/standard-iv-working-group-meeting/
LOCATION:Zoom
CATEGORIES:Standard IV Working Group,Working Group Meetings
END:VEVENT
BEGIN:VEVENT
DTSTART;TZID=America/New_York:20240308T120000
DTEND;TZID=America/New_York:20240308T130000
DTSTAMP:20260425T174626
CREATED:20240514T142323Z
LAST-MODIFIED:20240514T142323Z
UID:248-1709899200-1709902800@sites.monroecc.edu
SUMMARY:Standard III Working Group Meeting
DESCRIPTION:
URL:https://sites.monroecc.edu/middle-states/calendar/standard-iii-working-group-meeting/
LOCATION:Zoom
CATEGORIES:Standard III Working Group,Working Group Meetings
END:VEVENT
BEGIN:VEVENT
DTSTART;TZID=America/New_York:20240306T120000
DTEND;TZID=America/New_York:20240306T130000
DTSTAMP:20260425T174626
CREATED:20240514T144652Z
LAST-MODIFIED:20240514T144652Z
UID:301-1709726400-1709730000@sites.monroecc.edu
SUMMARY:Standard VII Working Group Meeting
DESCRIPTION:
URL:https://sites.monroecc.edu/middle-states/calendar/standard-vii-working-group-meeting/
LOCATION:Zoom
CATEGORIES:Standard VII Working Group,Working Group Meetings
END:VEVENT
BEGIN:VEVENT
DTSTART;TZID=America/New_York:20240306T120000
DTEND;TZID=America/New_York:20240306T130000
DTSTAMP:20260425T174626
CREATED:20240514T143633Z
LAST-MODIFIED:20240514T143633Z
UID:272-1709726400-1709730000@sites.monroecc.edu
SUMMARY:Standard V Working Group Meeting
DESCRIPTION:
URL:https://sites.monroecc.edu/middle-states/calendar/standard-v-working-group-meeting/
LOCATION:Zoom
CATEGORIES:Standard V Working Group,Working Group Meetings
END:VEVENT
BEGIN:VEVENT
DTSTART;TZID=America/New_York:20240304T150000
DTEND;TZID=America/New_York:20240304T160000
DTSTAMP:20260425T174626
CREATED:20240514T125629Z
LAST-MODIFIED:20240514T125629Z
UID:230-1709564400-1709568000@sites.monroecc.edu
SUMMARY:Standard I Working Group Meeting
DESCRIPTION:
URL:https://sites.monroecc.edu/middle-states/calendar/standard-i-working-group-meeting/
LOCATION:Zoom
CATEGORIES:Standard I Working Group,Working Group Meetings
END:VEVENT
BEGIN:VEVENT
DTSTART;TZID=America/New_York:20240304T120000
DTEND;TZID=America/New_York:20240304T130000
DTSTAMP:20260425T174626
CREATED:20240514T144217Z
LAST-MODIFIED:20240514T144217Z
UID:285-1709553600-1709557200@sites.monroecc.edu
SUMMARY:Standard VI Working Group Meeting
DESCRIPTION:
URL:https://sites.monroecc.edu/middle-states/calendar/standard-vi-working-group-meeting/
LOCATION:Zoom
CATEGORIES:Standard VI Working Group,Working Group Meetings
END:VEVENT
BEGIN:VEVENT
DTSTART;TZID=America/New_York:20240304T120000
DTEND;TZID=America/New_York:20240304T130000
DTSTAMP:20260425T174626
CREATED:20240514T130012Z
LAST-MODIFIED:20240514T130012Z
UID:242-1709553600-1709557200@sites.monroecc.edu
SUMMARY:Standard II Working Group Meeting
DESCRIPTION:
URL:https://sites.monroecc.edu/middle-states/calendar/standard-ii-working-group-meeting/
LOCATION:Zoom
CATEGORIES:Standard II Working Group,Working Group Meetings
END:VEVENT
BEGIN:VEVENT
DTSTART;TZID=America/New_York:20240206T100000
DTEND;TZID=America/New_York:20240206T110000
DTSTAMP:20260425T174626
CREATED:20240514T125023Z
LAST-MODIFIED:20240514T125023Z
UID:217-1707213600-1707217200@sites.monroecc.edu
SUMMARY:MSCHE Training Session
DESCRIPTION:
URL:https://sites.monroecc.edu/middle-states/calendar/msche-training-session/
LOCATION:Zoom
CATEGORIES:Working Group Meetings
END:VEVENT
END:VCALENDAR