BEGIN:VCALENDAR
VERSION:2.0
PRODID:-//Middle States Reaccreditation - ECPv6.15.20//NONSGML v1.0//EN
CALSCALE:GREGORIAN
METHOD:PUBLISH
X-WR-CALNAME:Middle States Reaccreditation
X-ORIGINAL-URL:https://sites.monroecc.edu/middle-states
X-WR-CALDESC:Events for Middle States Reaccreditation
REFRESH-INTERVAL;VALUE=DURATION:PT1H
X-Robots-Tag:noindex
X-PUBLISHED-TTL:PT1H
BEGIN:VTIMEZONE
TZID:America/New_York
BEGIN:DAYLIGHT
TZOFFSETFROM:-0500
TZOFFSETTO:-0400
TZNAME:EDT
DTSTART:20230312T070000
END:DAYLIGHT
BEGIN:STANDARD
TZOFFSETFROM:-0400
TZOFFSETTO:-0500
TZNAME:EST
DTSTART:20231105T060000
END:STANDARD
BEGIN:DAYLIGHT
TZOFFSETFROM:-0500
TZOFFSETTO:-0400
TZNAME:EDT
DTSTART:20240310T070000
END:DAYLIGHT
BEGIN:STANDARD
TZOFFSETFROM:-0400
TZOFFSETTO:-0500
TZNAME:EST
DTSTART:20241103T060000
END:STANDARD
BEGIN:DAYLIGHT
TZOFFSETFROM:-0500
TZOFFSETTO:-0400
TZNAME:EDT
DTSTART:20250309T070000
END:DAYLIGHT
BEGIN:STANDARD
TZOFFSETFROM:-0400
TZOFFSETTO:-0500
TZNAME:EST
DTSTART:20251102T060000
END:STANDARD
END:VTIMEZONE
BEGIN:VEVENT
DTSTART;TZID=America/New_York:20240916T090000
DTEND;TZID=America/New_York:20240916T100000
DTSTAMP:20260425T144142
CREATED:20240912T114523Z
LAST-MODIFIED:20240912T114747Z
UID:371-1726477200-1726480800@sites.monroecc.edu
SUMMARY:Standard I Working Group
DESCRIPTION:
URL:https://sites.monroecc.edu/middle-states/calendar/standard-i-working-group/
LOCATION:Zoom
CATEGORIES:Standard I Working Group,Working Group Meetings
END:VEVENT
BEGIN:VEVENT
DTSTART;TZID=America/New_York:20240911T131500
DTEND;TZID=America/New_York:20240911T140000
DTSTAMP:20260425T144142
CREATED:20240912T140926Z
LAST-MODIFIED:20240912T140926Z
UID:442-1726060500-1726063200@sites.monroecc.edu
SUMMARY:Standard VI Working Group
DESCRIPTION:
URL:https://sites.monroecc.edu/middle-states/calendar/standard-vi-working-group-2/
LOCATION:Third Floor Conference Room 1-307
CATEGORIES:Standard VI Working Group,Working Group Meetings
END:VEVENT
BEGIN:VEVENT
DTSTART;TZID=America/New_York:20240910T110000
DTEND;TZID=America/New_York:20240910T120000
DTSTAMP:20260425T144142
CREATED:20240912T151415Z
LAST-MODIFIED:20240912T151415Z
UID:451-1725966000-1725969600@sites.monroecc.edu
SUMMARY:Standard VII Working Group
DESCRIPTION:
URL:https://sites.monroecc.edu/middle-states/calendar/standard-vii-working-group/
LOCATION:Zoom
CATEGORIES:Standard VII Working Group,Working Group Meetings
END:VEVENT
BEGIN:VEVENT
DTSTART;TZID=America/New_York:20240906T120000
DTEND;TZID=America/New_York:20240906T130000
DTSTAMP:20260425T144142
CREATED:20240912T140837Z
LAST-MODIFIED:20240912T140837Z
UID:440-1725624000-1725627600@sites.monroecc.edu
SUMMARY:Standard VI Working Group
DESCRIPTION:
URL:https://sites.monroecc.edu/middle-states/calendar/standard-vi-working-group/
LOCATION:Third Floor Conference Room 1-307
CATEGORIES:Standard VI Working Group,Working Group Meetings
END:VEVENT
BEGIN:VEVENT
DTSTART;TZID=America/New_York:20240626T120000
DTEND;TZID=America/New_York:20240626T130000
DTSTAMP:20260425T144142
CREATED:20240514T144610Z
LAST-MODIFIED:20240514T144610Z
UID:299-1719403200-1719406800@sites.monroecc.edu
SUMMARY:Standard VI Working Group Meeting
DESCRIPTION:
URL:https://sites.monroecc.edu/middle-states/calendar/standard-vi-working-group-meeting-8/
LOCATION:Zoom
CATEGORIES:Standard VI Working Group,Working Group Meetings
END:VEVENT
BEGIN:VEVENT
DTSTART;TZID=America/New_York:20240624T120000
DTEND;TZID=America/New_York:20240624T130000
DTSTAMP:20260425T144142
CREATED:20240528T181005Z
LAST-MODIFIED:20240528T181005Z
UID:320-1719230400-1719234000@sites.monroecc.edu
SUMMARY:Standard V Working Group Meeting
DESCRIPTION:
URL:https://sites.monroecc.edu/middle-states/calendar/standard-v-working-group-meeting-8/
CATEGORIES:Standard V Working Group,Working Group Meetings
END:VEVENT
BEGIN:VEVENT
DTSTART;TZID=America/New_York:20240612T120000
DTEND;TZID=America/New_York:20240612T130000
DTSTAMP:20260425T144142
CREATED:20240514T144544Z
LAST-MODIFIED:20240514T144544Z
UID:297-1718193600-1718197200@sites.monroecc.edu
SUMMARY:Standard VI Working Group Meeting
DESCRIPTION:
URL:https://sites.monroecc.edu/middle-states/calendar/standard-vi-working-group-meeting-7/
LOCATION:Zoom
CATEGORIES:Standard VI Working Group,Working Group Meetings
END:VEVENT
BEGIN:VEVENT
DTSTART;TZID=America/New_York:20240612T120000
DTEND;TZID=America/New_York:20240612T130000
DTSTAMP:20260425T144142
CREATED:20240514T144114Z
LAST-MODIFIED:20240528T180855Z
UID:283-1718193600-1718197200@sites.monroecc.edu
SUMMARY:Standard V Working Group Meeting
DESCRIPTION:
URL:https://sites.monroecc.edu/middle-states/calendar/standard-v-working-group-meeting-6/
LOCATION:Zoom
CATEGORIES:Standard V Working Group,Working Group Meetings
END:VEVENT
BEGIN:VEVENT
DTSTART;TZID=America/New_York:20240610T140000
DTEND;TZID=America/New_York:20240610T150000
DTSTAMP:20260425T144142
CREATED:20240514T143545Z
LAST-MODIFIED:20240514T143545Z
UID:270-1718028000-1718031600@sites.monroecc.edu
SUMMARY:Standard IV Working Group Meeting
DESCRIPTION:
URL:https://sites.monroecc.edu/middle-states/calendar/standard-iv-working-group-meeting-9/
LOCATION:Zoom
CATEGORIES:Standard IV Working Group,Working Group Meetings
END:VEVENT
BEGIN:VEVENT
DTSTART;TZID=America/New_York:20240610T130000
DTEND;TZID=America/New_York:20240610T140000
DTSTAMP:20260425T144142
CREATED:20240523T171245Z
LAST-MODIFIED:20240523T171245Z
UID:317-1718024400-1718028000@sites.monroecc.edu
SUMMARY:Standard I Working Group Meeting
DESCRIPTION:
URL:https://sites.monroecc.edu/middle-states/calendar/standard-i-working-group-meeting-7/
CATEGORIES:Standard I Working Group,Working Group Meetings
END:VEVENT
BEGIN:VEVENT
DTSTART;TZID=America/New_York:20240529T120000
DTEND;TZID=America/New_York:20240529T130000
DTSTAMP:20260425T144142
CREATED:20240514T144509Z
LAST-MODIFIED:20240514T144509Z
UID:295-1716984000-1716987600@sites.monroecc.edu
SUMMARY:Standard VI Working Group Meeting
DESCRIPTION:
URL:https://sites.monroecc.edu/middle-states/calendar/standard-vi-working-group-meeting-6/
LOCATION:Zoom
CATEGORIES:Standard VI Working Group,Working Group Meetings
END:VEVENT
BEGIN:VEVENT
DTSTART;TZID=America/New_York:20240529T120000
DTEND;TZID=America/New_York:20240529T130000
DTSTAMP:20260425T144142
CREATED:20240514T143513Z
LAST-MODIFIED:20240514T143513Z
UID:268-1716984000-1716987600@sites.monroecc.edu
SUMMARY:Standard IV Working Group Meeting
DESCRIPTION:
URL:https://sites.monroecc.edu/middle-states/calendar/standard-iv-working-group-meeting-8/
LOCATION:Zoom
CATEGORIES:Standard IV Working Group,Working Group Meetings
END:VEVENT
BEGIN:VEVENT
DTSTART;TZID=America/New_York:20240528T120000
DTEND;TZID=America/New_York:20240528T130000
DTSTAMP:20260425T144142
CREATED:20240523T171148Z
LAST-MODIFIED:20240523T171148Z
UID:315-1716897600-1716901200@sites.monroecc.edu
SUMMARY:Standard VI Working Group Meeting
DESCRIPTION:
URL:https://sites.monroecc.edu/middle-states/calendar/standard-vi-working-group-meeting-9/
CATEGORIES:Standard VI Working Group,Working Group Meetings
END:VEVENT
BEGIN:VEVENT
DTSTART;TZID=America/New_York:20240524T120000
DTEND;TZID=America/New_York:20240524T130000
DTSTAMP:20260425T144142
CREATED:20240514T183332Z
LAST-MODIFIED:20240514T183332Z
UID:311-1716552000-1716555600@sites.monroecc.edu
SUMMARY:Standard V Working Group Meeting
DESCRIPTION:
URL:https://sites.monroecc.edu/middle-states/calendar/standard-v-working-group-meeting-7/
LOCATION:Zoom
CATEGORIES:Standard V Working Group,Working Group Meetings
END:VEVENT
BEGIN:VEVENT
DTSTART;TZID=America/New_York:20240523T110000
DTEND;TZID=America/New_York:20240523T120000
DTSTAMP:20260425T144142
CREATED:20240514T144852Z
LAST-MODIFIED:20240514T144852Z
UID:309-1716462000-1716465600@sites.monroecc.edu
SUMMARY:Standard VII Working Group Meeting
DESCRIPTION:
URL:https://sites.monroecc.edu/middle-states/calendar/standard-vii-working-group-meeting-5/
LOCATION:Zoom
CATEGORIES:Standard VII Working Group,Working Group Meetings
END:VEVENT
BEGIN:VEVENT
DTSTART;TZID=America/New_York:20240515T140000
DTEND;TZID=America/New_York:20240515T150000
DTSTAMP:20260425T144142
CREATED:20240514T144427Z
LAST-MODIFIED:20240514T144427Z
UID:293-1715781600-1715785200@sites.monroecc.edu
SUMMARY:Standard VI Working Group Meeting
DESCRIPTION:
URL:https://sites.monroecc.edu/middle-states/calendar/standard-vi-working-group-meeting-5/
LOCATION:Zoom
CATEGORIES:Standard VI Working Group,Working Group Meetings
END:VEVENT
BEGIN:VEVENT
DTSTART;TZID=America/New_York:20240515T120000
DTEND;TZID=America/New_York:20240515T130000
DTSTAMP:20260425T144142
CREATED:20240514T143440Z
LAST-MODIFIED:20240514T143440Z
UID:266-1715774400-1715778000@sites.monroecc.edu
SUMMARY:Standard IV Working Group Meeting
DESCRIPTION:
URL:https://sites.monroecc.edu/middle-states/calendar/standard-iv-working-group-meeting-7/
LOCATION:Zoom
CATEGORIES:Standard IV Working Group,Working Group Meetings
END:VEVENT
BEGIN:VEVENT
DTSTART;TZID=America/New_York:20240513T160000
DTEND;TZID=America/New_York:20240513T170000
DTSTAMP:20260425T144142
CREATED:20240514T143406Z
LAST-MODIFIED:20240514T143406Z
UID:264-1715616000-1715619600@sites.monroecc.edu
SUMMARY:Standard IV Working Group Meeting
DESCRIPTION:
URL:https://sites.monroecc.edu/middle-states/calendar/standard-iv-working-group-meeting-6/
LOCATION:Zoom
CATEGORIES:Standard IV Working Group,Working Group Meetings
END:VEVENT
BEGIN:VEVENT
DTSTART;TZID=America/New_York:20240513T150000
DTEND;TZID=America/New_York:20240513T160000
DTSTAMP:20260425T144142
CREATED:20240514T125846Z
LAST-MODIFIED:20240514T125846Z
UID:238-1715612400-1715616000@sites.monroecc.edu
SUMMARY:Standard I Working Group Meeting
DESCRIPTION:
URL:https://sites.monroecc.edu/middle-states/calendar/standard-i-working-group-meeting-5/
LOCATION:Zoom
CATEGORIES:Standard I Working Group,Working Group Meetings
END:VEVENT
BEGIN:VEVENT
DTSTART;TZID=America/New_York:20240510T140000
DTEND;TZID=America/New_York:20240510T150000
DTSTAMP:20260425T144142
CREATED:20240514T142720Z
LAST-MODIFIED:20240514T142720Z
UID:262-1715349600-1715353200@sites.monroecc.edu
SUMMARY:Standard IV Working Group Meeting
DESCRIPTION:
URL:https://sites.monroecc.edu/middle-states/calendar/standard-iv-working-group-meeting-5/
LOCATION:Zoom
CATEGORIES:Standard IV Working Group,Working Group Meetings
END:VEVENT
BEGIN:VEVENT
DTSTART;TZID=America/New_York:20240510T120000
DTEND;TZID=America/New_York:20240510T130000
DTSTAMP:20260425T144142
CREATED:20240514T144023Z
LAST-MODIFIED:20240514T144023Z
UID:280-1715342400-1715346000@sites.monroecc.edu
SUMMARY:Standard V Working Group Meeting
DESCRIPTION:
URL:https://sites.monroecc.edu/middle-states/calendar/standard-v-working-group-meeting-5/
LOCATION:Zoom
CATEGORIES:Standard V Working Group,Working Group Meetings
END:VEVENT
BEGIN:VEVENT
DTSTART;TZID=America/New_York:20240502T110000
DTEND;TZID=America/New_York:20240502T120000
DTSTAMP:20260425T144142
CREATED:20240514T144825Z
LAST-MODIFIED:20240514T144825Z
UID:307-1714647600-1714651200@sites.monroecc.edu
SUMMARY:Standard VII Working Group Meeting
DESCRIPTION:
URL:https://sites.monroecc.edu/middle-states/calendar/standard-vii-working-group-meeting-4/
LOCATION:Zoom
CATEGORIES:Standard VII Working Group,Working Group Meetings
END:VEVENT
BEGIN:VEVENT
DTSTART;TZID=America/New_York:20240429T150000
DTEND;TZID=America/New_York:20240429T160000
DTSTAMP:20260425T144142
CREATED:20240514T125817Z
LAST-MODIFIED:20240514T125817Z
UID:236-1714402800-1714406400@sites.monroecc.edu
SUMMARY:Standard I Working Group Meeting
DESCRIPTION:
URL:https://sites.monroecc.edu/middle-states/calendar/standard-i-working-group-meeting-4/
LOCATION:Zoom
CATEGORIES:Standard I Working Group,Working Group Meetings
END:VEVENT
BEGIN:VEVENT
DTSTART;TZID=America/New_York:20240426T120000
DTEND;TZID=America/New_York:20240426T130000
DTSTAMP:20260425T144142
CREATED:20240514T143954Z
LAST-MODIFIED:20240514T143954Z
UID:278-1714132800-1714136400@sites.monroecc.edu
SUMMARY:Standard V Working Group Meeting
DESCRIPTION:
URL:https://sites.monroecc.edu/middle-states/calendar/standard-v-working-group-meeting-4/
LOCATION:Zoom
CATEGORIES:Standard V Working Group,Working Group Meetings
END:VEVENT
BEGIN:VEVENT
DTSTART;TZID=America/New_York:20240418T110000
DTEND;TZID=America/New_York:20240418T120000
DTSTAMP:20260425T144142
CREATED:20240514T144755Z
LAST-MODIFIED:20240514T144755Z
UID:305-1713438000-1713441600@sites.monroecc.edu
SUMMARY:Standard VII Working Group Meeting
DESCRIPTION:
URL:https://sites.monroecc.edu/middle-states/calendar/standard-vii-working-group-meeting-3/
LOCATION:Zoom
CATEGORIES:Standard VII Working Group,Working Group Meetings
END:VEVENT
BEGIN:VEVENT
DTSTART;TZID=America/New_York:20240417T120000
DTEND;TZID=America/New_York:20240417T130000
DTSTAMP:20260425T144142
CREATED:20240514T144351Z
LAST-MODIFIED:20240514T144351Z
UID:291-1713355200-1713358800@sites.monroecc.edu
SUMMARY:Standard VI Working Group Meeting
DESCRIPTION:
URL:https://sites.monroecc.edu/middle-states/calendar/standard-vi-working-group-meeting-4/
LOCATION:Zoom
CATEGORIES:Standard VI Working Group,Working Group Meetings
END:VEVENT
BEGIN:VEVENT
DTSTART;TZID=America/New_York:20240415T150000
DTEND;TZID=America/New_York:20240415T160000
DTSTAMP:20260425T144142
CREATED:20240514T125917Z
LAST-MODIFIED:20240514T125917Z
UID:240-1713193200-1713196800@sites.monroecc.edu
SUMMARY:Standard I Working Group Meeting
DESCRIPTION:
URL:https://sites.monroecc.edu/middle-states/calendar/standard-i-working-group-meeting-6/
LOCATION:Zoom
CATEGORIES:Standard I Working Group,Working Group Meetings
END:VEVENT
BEGIN:VEVENT
DTSTART;TZID=America/New_York:20240412T120000
DTEND;TZID=America/New_York:20240412T130000
DTSTAMP:20260425T144142
CREATED:20240514T143731Z
LAST-MODIFIED:20240514T143731Z
UID:276-1712923200-1712926800@sites.monroecc.edu
SUMMARY:Standard V Working Group Meeting
DESCRIPTION:
URL:https://sites.monroecc.edu/middle-states/calendar/standard-v-working-group-meeting-3/
LOCATION:Zoom
CATEGORIES:Standard V Working Group,Working Group Meetings
END:VEVENT
BEGIN:VEVENT
DTSTART;TZID=America/New_York:20240410T120000
DTEND;TZID=America/New_York:20240410T130000
DTSTAMP:20260425T144142
CREATED:20240514T144318Z
LAST-MODIFIED:20240514T144318Z
UID:289-1712750400-1712754000@sites.monroecc.edu
SUMMARY:Standard VI Working Group Meeting
DESCRIPTION:
URL:https://sites.monroecc.edu/middle-states/calendar/standard-vi-working-group-meeting-3/
LOCATION:Zoom
CATEGORIES:Standard VI Working Group,Working Group Meetings
END:VEVENT
BEGIN:VEVENT
DTSTART;TZID=America/New_York:20240410T090000
DTEND;TZID=America/New_York:20240410T100000
DTSTAMP:20260425T144142
CREATED:20240514T142644Z
LAST-MODIFIED:20240514T142644Z
UID:260-1712739600-1712743200@sites.monroecc.edu
SUMMARY:Standard IV Working Group Meeting
DESCRIPTION:
URL:https://sites.monroecc.edu/middle-states/calendar/standard-iv-working-group-meeting-4/
LOCATION:Zoom
CATEGORIES:Standard IV Working Group,Working Group Meetings
END:VEVENT
END:VCALENDAR