BEGIN:VCALENDAR
VERSION:2.0
PRODID:-//Middle States Reaccreditation - ECPv6.15.20//NONSGML v1.0//EN
CALSCALE:GREGORIAN
METHOD:PUBLISH
X-WR-CALNAME:Middle States Reaccreditation
X-ORIGINAL-URL:https://sites.monroecc.edu/middle-states
X-WR-CALDESC:Events for Middle States Reaccreditation
REFRESH-INTERVAL;VALUE=DURATION:PT1H
X-Robots-Tag:noindex
X-PUBLISHED-TTL:PT1H
BEGIN:VTIMEZONE
TZID:America/New_York
BEGIN:DAYLIGHT
TZOFFSETFROM:-0500
TZOFFSETTO:-0400
TZNAME:EDT
DTSTART:20230312T070000
END:DAYLIGHT
BEGIN:STANDARD
TZOFFSETFROM:-0400
TZOFFSETTO:-0500
TZNAME:EST
DTSTART:20231105T060000
END:STANDARD
BEGIN:DAYLIGHT
TZOFFSETFROM:-0500
TZOFFSETTO:-0400
TZNAME:EDT
DTSTART:20240310T070000
END:DAYLIGHT
BEGIN:STANDARD
TZOFFSETFROM:-0400
TZOFFSETTO:-0500
TZNAME:EST
DTSTART:20241103T060000
END:STANDARD
BEGIN:DAYLIGHT
TZOFFSETFROM:-0500
TZOFFSETTO:-0400
TZNAME:EDT
DTSTART:20250309T070000
END:DAYLIGHT
BEGIN:STANDARD
TZOFFSETFROM:-0400
TZOFFSETTO:-0500
TZNAME:EST
DTSTART:20251102T060000
END:STANDARD
END:VTIMEZONE
BEGIN:VEVENT
DTSTART;TZID=America/New_York:20241125T150000
DTEND;TZID=America/New_York:20241125T160000
DTSTAMP:20260425T085733
CREATED:20240912T135645Z
LAST-MODIFIED:20240912T135645Z
UID:432-1732546800-1732550400@sites.monroecc.edu
SUMMARY:Standard V Working Group
DESCRIPTION:
URL:https://sites.monroecc.edu/middle-states/calendar/standard-v-working-group-5/
LOCATION:Third Floor Conference Room 1-307
CATEGORIES:Standard V Working Group,Working Group Meetings
END:VEVENT
BEGIN:VEVENT
DTSTART;TZID=America/New_York:20241125T090000
DTEND;TZID=America/New_York:20241125T100000
DTSTAMP:20260425T085733
CREATED:20240912T114953Z
LAST-MODIFIED:20240912T115322Z
UID:381-1732525200-1732528800@sites.monroecc.edu
SUMMARY:Standard I Working Group
DESCRIPTION:
URL:https://sites.monroecc.edu/middle-states/calendar/standard-i-working-group-6/
LOCATION:Zoom
CATEGORIES:Standard I Working Group,Working Group Meetings
END:VEVENT
BEGIN:VEVENT
DTSTART;TZID=America/New_York:20241121T130000
DTEND;TZID=America/New_York:20241121T140000
DTSTAMP:20260425T085733
CREATED:20240917T191204Z
LAST-MODIFIED:20240917T191204Z
UID:471-1732194000-1732197600@sites.monroecc.edu
SUMMARY:Standard VI Working Group
DESCRIPTION:
URL:https://sites.monroecc.edu/middle-states/calendar/standard-vi-working-group-8/
LOCATION:Third Floor Conference Room 1-307
CATEGORIES:Standard VI Working Group,Working Group Meetings
END:VEVENT
BEGIN:VEVENT
DTSTART;TZID=America/New_York:20241119T110000
DTEND;TZID=America/New_York:20241119T120000
DTSTAMP:20260425T085733
CREATED:20240912T151659Z
LAST-MODIFIED:20240912T151708Z
UID:461-1732014000-1732017600@sites.monroecc.edu
SUMMARY:Standard VII Working Group
DESCRIPTION:
URL:https://sites.monroecc.edu/middle-states/calendar/standard-vii-working-group-6/
LOCATION:Zoom
CATEGORIES:Standard VII Working Group,Working Group Meetings
END:VEVENT
BEGIN:VEVENT
DTSTART;TZID=America/New_York:20241118T120000
DTEND;TZID=America/New_York:20241118T130000
DTSTAMP:20260425T085733
CREATED:20240912T122748Z
LAST-MODIFIED:20240912T122748Z
UID:393-1731931200-1731934800@sites.monroecc.edu
SUMMARY:Standard II Working Group
DESCRIPTION:
URL:https://sites.monroecc.edu/middle-states/calendar/standard-ii-working-group-5/
LOCATION:Zoom
CATEGORIES:Standard II Working Group,Working Group Meetings
END:VEVENT
BEGIN:VEVENT
DTSTART;TZID=America/New_York:20241115T130000
DTEND;TZID=America/New_York:20241115T140000
DTSTAMP:20260425T085733
CREATED:20240912T123733Z
LAST-MODIFIED:20240912T123733Z
UID:406-1731675600-1731679200@sites.monroecc.edu
SUMMARY:Standard III Working Group
DESCRIPTION:
URL:https://sites.monroecc.edu/middle-states/calendar/standard-iii-working-group-5/
LOCATION:Virtual Campus Training Room
CATEGORIES:Standard III Working Group,Working Group Meetings
END:VEVENT
BEGIN:VEVENT
DTSTART;TZID=America/New_York:20241115T100000
DTEND;TZID=America/New_York:20241115T110000
DTSTAMP:20260425T085733
CREATED:20240912T135607Z
LAST-MODIFIED:20240919T150144Z
UID:430-1731664800-1731668400@sites.monroecc.edu
SUMMARY:Standard V Working Group
DESCRIPTION:
URL:https://sites.monroecc.edu/middle-states/calendar/standard-v-working-group-4/
LOCATION:Third Floor Conference Room 1-307
CATEGORIES:Standard V Working Group,Working Group Meetings
END:VEVENT
BEGIN:VEVENT
DTSTART;TZID=America/New_York:20241113T120000
DTEND;TZID=America/New_York:20241113T130000
DTSTAMP:20260425T085733
CREATED:20240912T125823Z
LAST-MODIFIED:20240912T125823Z
UID:416-1731499200-1731502800@sites.monroecc.edu
SUMMARY:Standard IV Working Group
DESCRIPTION:
URL:https://sites.monroecc.edu/middle-states/calendar/standard-iv-working-group-5/
LOCATION:Zoom
CATEGORIES:Standard IV Working Group,Working Group Meetings
END:VEVENT
BEGIN:VEVENT
DTSTART;TZID=America/New_York:20241107T130000
DTEND;TZID=America/New_York:20241107T140000
DTSTAMP:20260425T085733
CREATED:20240917T191122Z
LAST-MODIFIED:20240917T191122Z
UID:469-1730984400-1730988000@sites.monroecc.edu
SUMMARY:Standard VI Working Group
DESCRIPTION:
URL:https://sites.monroecc.edu/middle-states/calendar/standard-vi-working-group-7/
LOCATION:Third Floor Conference Room 1-307
CATEGORIES:Standard VI Working Group,Working Group Meetings
END:VEVENT
BEGIN:VEVENT
DTSTART;TZID=America/New_York:20241105T110000
DTEND;TZID=America/New_York:20241105T120000
DTSTAMP:20260425T085733
CREATED:20240912T151626Z
LAST-MODIFIED:20240912T151626Z
UID:459-1730804400-1730808000@sites.monroecc.edu
SUMMARY:Standard VII Working Group
DESCRIPTION:
URL:https://sites.monroecc.edu/middle-states/calendar/standard-vii-working-group-5/
LOCATION:Zoom
CATEGORIES:Standard VII Working Group,Working Group Meetings
END:VEVENT
BEGIN:VEVENT
DTSTART;TZID=America/New_York:20241104T120000
DTEND;TZID=America/New_York:20241104T130000
DTSTAMP:20260425T085733
CREATED:20240912T115729Z
LAST-MODIFIED:20240912T115729Z
UID:391-1730721600-1730725200@sites.monroecc.edu
SUMMARY:Standard II Working Group
DESCRIPTION:
URL:https://sites.monroecc.edu/middle-states/calendar/standard-ii-working-group-4/
LOCATION:Zoom
CATEGORIES:Standard II Working Group,Working Group Meetings
END:VEVENT
BEGIN:VEVENT
DTSTART;TZID=America/New_York:20241101T130000
DTEND;TZID=America/New_York:20241101T140000
DTSTAMP:20260425T085733
CREATED:20240912T123701Z
LAST-MODIFIED:20240912T123701Z
UID:404-1730466000-1730469600@sites.monroecc.edu
SUMMARY:Standard III Working Group
DESCRIPTION:
URL:https://sites.monroecc.edu/middle-states/calendar/standard-iii-working-group-4/
LOCATION:Virtual Campus Training Room
CATEGORIES:Standard III Working Group,Working Group Meetings
END:VEVENT
BEGIN:VEVENT
DTSTART;TZID=America/New_York:20241030T120000
DTEND;TZID=America/New_York:20241030T130000
DTSTAMP:20260425T085733
CREATED:20240912T125751Z
LAST-MODIFIED:20240912T125751Z
UID:414-1730289600-1730293200@sites.monroecc.edu
SUMMARY:Standard IV Working Group
DESCRIPTION:
URL:https://sites.monroecc.edu/middle-states/calendar/standard-iv-working-group-4/
LOCATION:Zoom
CATEGORIES:Standard IV Working Group,Working Group Meetings
END:VEVENT
BEGIN:VEVENT
DTSTART;TZID=America/New_York:20241028T150000
DTEND;TZID=America/New_York:20241028T160000
DTSTAMP:20260425T085733
CREATED:20240912T140407Z
LAST-MODIFIED:20240912T140407Z
UID:438-1730127600-1730131200@sites.monroecc.edu
SUMMARY:Standard V Working Group
DESCRIPTION:
URL:https://sites.monroecc.edu/middle-states/calendar/standard-v-working-group-8/
LOCATION:Third Floor Conference Room 1-307
CATEGORIES:Standard V Working Group,Working Group Meetings
END:VEVENT
BEGIN:VEVENT
DTSTART;TZID=America/New_York:20241028T090000
DTEND;TZID=America/New_York:20241028T100000
DTSTAMP:20260425T085733
CREATED:20240912T114846Z
LAST-MODIFIED:20240912T115407Z
UID:377-1730106000-1730109600@sites.monroecc.edu
SUMMARY:Standard I Working Group
DESCRIPTION:
URL:https://sites.monroecc.edu/middle-states/calendar/standard-i-working-group-4/
LOCATION:Zoom
CATEGORIES:Standard I Working Group,Working Group Meetings
END:VEVENT
BEGIN:VEVENT
DTSTART;TZID=America/New_York:20241023T090000
DTEND;TZID=America/New_York:20241023T100000
DTSTAMP:20260425T085733
CREATED:20240917T191047Z
LAST-MODIFIED:20240917T191047Z
UID:467-1729674000-1729677600@sites.monroecc.edu
SUMMARY:Standard VI Working Group
DESCRIPTION:
URL:https://sites.monroecc.edu/middle-states/calendar/standard-vi-working-group-6/
LOCATION:Third Floor Conference Room 1-307
CATEGORIES:Standard VI Working Group,Working Group Meetings
END:VEVENT
BEGIN:VEVENT
DTSTART;TZID=America/New_York:20241022T110000
DTEND;TZID=America/New_York:20241022T120000
DTSTAMP:20260425T085733
CREATED:20240912T151554Z
LAST-MODIFIED:20240912T151554Z
UID:457-1729594800-1729598400@sites.monroecc.edu
SUMMARY:Standard VII Working Group
DESCRIPTION:
URL:https://sites.monroecc.edu/middle-states/calendar/standard-vii-working-group-4/
LOCATION:Zoom
CATEGORIES:Standard VII Working Group,Working Group Meetings
END:VEVENT
BEGIN:VEVENT
DTSTART;TZID=America/New_York:20241021T120000
DTEND;TZID=America/New_York:20241021T130000
DTSTAMP:20260425T085733
CREATED:20240912T115655Z
LAST-MODIFIED:20240912T115655Z
UID:389-1729512000-1729515600@sites.monroecc.edu
SUMMARY:Standard II Working Group
DESCRIPTION:
URL:https://sites.monroecc.edu/middle-states/calendar/standard-ii-working-group-3/
LOCATION:Zoom
CATEGORIES:Standard II Working Group,Working Group Meetings
END:VEVENT
BEGIN:VEVENT
DTSTART;TZID=America/New_York:20241018T130000
DTEND;TZID=America/New_York:20241018T140000
DTSTAMP:20260425T085733
CREATED:20240912T123629Z
LAST-MODIFIED:20240912T123629Z
UID:402-1729256400-1729260000@sites.monroecc.edu
SUMMARY:Standard III Working Group
DESCRIPTION:
URL:https://sites.monroecc.edu/middle-states/calendar/standard-iii-working-group-3/
LOCATION:Virtual Campus Training Room
CATEGORIES:Standard III Working Group,Working Group Meetings
END:VEVENT
BEGIN:VEVENT
DTSTART;TZID=America/New_York:20241016T120000
DTEND;TZID=America/New_York:20241016T130000
DTSTAMP:20260425T085733
CREATED:20240912T125622Z
LAST-MODIFIED:20240912T125622Z
UID:412-1729080000-1729083600@sites.monroecc.edu
SUMMARY:Standard IV Working Group
DESCRIPTION:
URL:https://sites.monroecc.edu/middle-states/calendar/standard-iv-working-group-3/
LOCATION:Zoom
CATEGORIES:Standard IV Working Group,Working Group Meetings
END:VEVENT
BEGIN:VEVENT
DTSTART;TZID=America/New_York:20241014T150000
DTEND;TZID=America/New_York:20241014T160000
DTSTAMP:20260425T085733
CREATED:20240912T135511Z
LAST-MODIFIED:20240912T135511Z
UID:428-1728918000-1728921600@sites.monroecc.edu
SUMMARY:Standard V Working Group
DESCRIPTION:
URL:https://sites.monroecc.edu/middle-states/calendar/standard-v-working-group-3/
LOCATION:Third Floor Conference Room 1-307
CATEGORIES:Standard V Working Group,Working Group Meetings
END:VEVENT
BEGIN:VEVENT
DTSTART;TZID=America/New_York:20241014T090000
DTEND;TZID=America/New_York:20241014T100000
DTSTAMP:20260425T085733
CREATED:20240912T114617Z
LAST-MODIFIED:20240912T115426Z
UID:375-1728896400-1728900000@sites.monroecc.edu
SUMMARY:Standard I Working Group
DESCRIPTION:
URL:https://sites.monroecc.edu/middle-states/calendar/standard-i-working-group-3/
LOCATION:Zoom
CATEGORIES:Standard I Working Group,Working Group Meetings
END:VEVENT
BEGIN:VEVENT
DTSTART;TZID=America/New_York:20241008T110000
DTEND;TZID=America/New_York:20241008T120000
DTSTAMP:20260425T085733
CREATED:20240912T151520Z
LAST-MODIFIED:20240912T151520Z
UID:455-1728385200-1728388800@sites.monroecc.edu
SUMMARY:Standard VII Working Group
DESCRIPTION:
URL:https://sites.monroecc.edu/middle-states/calendar/standard-vii-working-group-3/
LOCATION:Zoom
CATEGORIES:Standard VII Working Group,Working Group Meetings
END:VEVENT
BEGIN:VEVENT
DTSTART;TZID=America/New_York:20241007T120000
DTEND;TZID=America/New_York:20241007T130000
DTSTAMP:20260425T085733
CREATED:20240912T115624Z
LAST-MODIFIED:20240912T115624Z
UID:387-1728302400-1728306000@sites.monroecc.edu
SUMMARY:Standard II Working Group
DESCRIPTION:
URL:https://sites.monroecc.edu/middle-states/calendar/standard-ii-working-group-2/
LOCATION:Zoom
CATEGORIES:Standard II Working Group,Working Group Meetings
END:VEVENT
BEGIN:VEVENT
DTSTART;TZID=America/New_York:20241004T130000
DTEND;TZID=America/New_York:20241004T140000
DTSTAMP:20260425T085733
CREATED:20240912T123559Z
LAST-MODIFIED:20240912T123559Z
UID:400-1728046800-1728050400@sites.monroecc.edu
SUMMARY:Standard III Working Group
DESCRIPTION:
URL:https://sites.monroecc.edu/middle-states/calendar/standard-iii-working-group-2/
LOCATION:Virtual Campus Training Room
CATEGORIES:Standard III Working Group,Working Group Meetings
END:VEVENT
BEGIN:VEVENT
DTSTART;TZID=America/New_York:20241002T120000
DTEND;TZID=America/New_York:20241002T130000
DTSTAMP:20260425T085733
CREATED:20240912T125552Z
LAST-MODIFIED:20240912T125552Z
UID:410-1727870400-1727874000@sites.monroecc.edu
SUMMARY:Standard IV Working Group
DESCRIPTION:
URL:https://sites.monroecc.edu/middle-states/calendar/standard-iv-working-group-2/
LOCATION:Zoom
CATEGORIES:Standard IV Working Group,Working Group Meetings
END:VEVENT
BEGIN:VEVENT
DTSTART;TZID=America/New_York:20240930T150000
DTEND;TZID=America/New_York:20240930T160000
DTSTAMP:20260425T085733
CREATED:20240912T135434Z
LAST-MODIFIED:20240912T135434Z
UID:426-1727708400-1727712000@sites.monroecc.edu
SUMMARY:Standard V Working Group
DESCRIPTION:
URL:https://sites.monroecc.edu/middle-states/calendar/standard-v-working-group-2/
LOCATION:Third Floor Conference Room 1-307
CATEGORIES:Standard V Working Group,Working Group Meetings
END:VEVENT
BEGIN:VEVENT
DTSTART;TZID=America/New_York:20240930T130000
DTEND;TZID=America/New_York:20240930T140000
DTSTAMP:20260425T085733
CREATED:20240912T141111Z
LAST-MODIFIED:20240912T141111Z
UID:449-1727701200-1727704800@sites.monroecc.edu
SUMMARY:Standard VI Working Group
DESCRIPTION:
URL:https://sites.monroecc.edu/middle-states/calendar/standard-vi-working-group-5/
LOCATION:Third Floor Conference Room 1-307
CATEGORIES:Standard VI Working Group,Working Group Meetings
END:VEVENT
BEGIN:VEVENT
DTSTART;TZID=America/New_York:20240930T090000
DTEND;TZID=America/New_York:20240930T100000
DTSTAMP:20260425T085733
CREATED:20240912T114547Z
LAST-MODIFIED:20240912T115155Z
UID:373-1727686800-1727690400@sites.monroecc.edu
SUMMARY:Standard I Working Group
DESCRIPTION:
URL:https://sites.monroecc.edu/middle-states/calendar/standard-i-working-group-2/
LOCATION:Zoom
CATEGORIES:Standard I Working Group,Working Group Meetings
END:VEVENT
BEGIN:VEVENT
DTSTART;TZID=America/New_York:20240924T110000
DTEND;TZID=America/New_York:20240924T120000
DTSTAMP:20260425T085733
CREATED:20240912T151445Z
LAST-MODIFIED:20240912T151445Z
UID:453-1727175600-1727179200@sites.monroecc.edu
SUMMARY:Standard VII Working Group
DESCRIPTION:
URL:https://sites.monroecc.edu/middle-states/calendar/standard-vii-working-group-2/
LOCATION:Zoom
CATEGORIES:Standard VII Working Group,Working Group Meetings
END:VEVENT
END:VCALENDAR