BEGIN:VCALENDAR
VERSION:2.0
PRODID:-//Middle States Reaccreditation - ECPv6.15.20//NONSGML v1.0//EN
CALSCALE:GREGORIAN
METHOD:PUBLISH
X-WR-CALNAME:Middle States Reaccreditation
X-ORIGINAL-URL:https://sites.monroecc.edu/middle-states
X-WR-CALDESC:Events for Middle States Reaccreditation
REFRESH-INTERVAL;VALUE=DURATION:PT1H
X-Robots-Tag:noindex
X-PUBLISHED-TTL:PT1H
BEGIN:VTIMEZONE
TZID:America/New_York
BEGIN:DAYLIGHT
TZOFFSETFROM:-0500
TZOFFSETTO:-0400
TZNAME:EDT
DTSTART:20220313T070000
END:DAYLIGHT
BEGIN:STANDARD
TZOFFSETFROM:-0400
TZOFFSETTO:-0500
TZNAME:EST
DTSTART:20221106T060000
END:STANDARD
BEGIN:DAYLIGHT
TZOFFSETFROM:-0500
TZOFFSETTO:-0400
TZNAME:EDT
DTSTART:20230312T070000
END:DAYLIGHT
BEGIN:STANDARD
TZOFFSETFROM:-0400
TZOFFSETTO:-0500
TZNAME:EST
DTSTART:20231105T060000
END:STANDARD
BEGIN:DAYLIGHT
TZOFFSETFROM:-0500
TZOFFSETTO:-0400
TZNAME:EDT
DTSTART:20240310T070000
END:DAYLIGHT
BEGIN:STANDARD
TZOFFSETFROM:-0400
TZOFFSETTO:-0500
TZNAME:EST
DTSTART:20241103T060000
END:STANDARD
BEGIN:DAYLIGHT
TZOFFSETFROM:-0500
TZOFFSETTO:-0400
TZNAME:EDT
DTSTART:20250309T070000
END:DAYLIGHT
BEGIN:STANDARD
TZOFFSETFROM:-0400
TZOFFSETTO:-0500
TZNAME:EST
DTSTART:20251102T060000
END:STANDARD
BEGIN:DAYLIGHT
TZOFFSETFROM:-0500
TZOFFSETTO:-0400
TZNAME:EDT
DTSTART:20260308T070000
END:DAYLIGHT
BEGIN:STANDARD
TZOFFSETFROM:-0400
TZOFFSETTO:-0500
TZNAME:EST
DTSTART:20261101T060000
END:STANDARD
BEGIN:DAYLIGHT
TZOFFSETFROM:-0500
TZOFFSETTO:-0400
TZNAME:EDT
DTSTART:20270314T070000
END:DAYLIGHT
BEGIN:STANDARD
TZOFFSETFROM:-0400
TZOFFSETTO:-0500
TZNAME:EST
DTSTART:20271107T060000
END:STANDARD
END:VTIMEZONE
BEGIN:VEVENT
DTSTART;VALUE=DATE:20260316
DTEND;VALUE=DATE:20260317
DTSTAMP:20260424T195739
CREATED:20260319T115410Z
LAST-MODIFIED:20260319T115410Z
UID:816-1773619200-1773705599@sites.monroecc.edu
SUMMARY:Zoom Informational Session
DESCRIPTION:Hosting a Zoom informational session for all Faculty/Staff\, led by MSCHE Leadership
URL:https://sites.monroecc.edu/middle-states/calendar/zoom-informational-session/
CATEGORIES:Reaccreditation Updates
END:VEVENT
BEGIN:VEVENT
DTSTART;VALUE=DATE:20260310
DTEND;VALUE=DATE:20260311
DTSTAMP:20260424T195739
CREATED:20260319T115320Z
LAST-MODIFIED:20260319T115328Z
UID:814-1773100800-1773187199@sites.monroecc.edu
SUMMARY:ELT Meeting
DESCRIPTION:ELT Meeting: MSCHE Leadership to provide an update
URL:https://sites.monroecc.edu/middle-states/calendar/elt-meeting-4/
CATEGORIES:Reaccreditation Updates
END:VEVENT
BEGIN:VEVENT
DTSTART;VALUE=DATE:20260101
DTEND;VALUE=DATE:20260102
DTSTAMP:20260424T195739
CREATED:20240418T124146Z
LAST-MODIFIED:20240418T124146Z
UID:164-1767225600-1767311999@sites.monroecc.edu
SUMMARY:Spring 2026: Report Review: Revision\, and Approval
DESCRIPTION:Finalize on-site visit logistics\, submit final report and Evidence Inventory\, and receive feedback and decision from MSCHE on accreditation.
URL:https://sites.monroecc.edu/middle-states/calendar/spring-2026-report-review-revision-and-approval/
CATEGORIES:Reaccreditation Updates
END:VEVENT
BEGIN:VEVENT
DTSTART;VALUE=DATE:20251023
DTEND;VALUE=DATE:20251024
DTSTAMP:20260424T195739
CREATED:20260319T114230Z
LAST-MODIFIED:20260319T114230Z
UID:795-1761177600-1761263999@sites.monroecc.edu
SUMMARY:MSCHE Co-Chairs Present Update
DESCRIPTION:FS meeting from 3:30pm to 5pm; MSCHE co-chairs present update
URL:https://sites.monroecc.edu/middle-states/calendar/msche-co-chairs-present-update/
CATEGORIES:Reaccreditation Updates
END:VEVENT
BEGIN:VEVENT
DTSTART;TZID=America/New_York:20251007T100000
DTEND;TZID=America/New_York:20251007T110000
DTSTAMP:20260424T195739
CREATED:20251103T152802Z
LAST-MODIFIED:20251103T154200Z
UID:741-1759831200-1759834800@sites.monroecc.edu
SUMMARY:Support Staff Planning Council (SSPC) meeting
DESCRIPTION:Dr. William Dixon to present MSCHE update​
URL:https://sites.monroecc.edu/middle-states/calendar/support-staff-planning-council-sspc-meeting/
CATEGORIES:Reaccreditation Updates
END:VEVENT
BEGIN:VEVENT
DTSTART;VALUE=DATE:20250901
DTEND;VALUE=DATE:20250902
DTSTAMP:20260424T195739
CREATED:20240418T123929Z
LAST-MODIFIED:20240418T123929Z
UID:154-1756684800-1756771199@sites.monroecc.edu
SUMMARY:Fall 2025: Report Writing
DESCRIPTION:Conduct stakeholder review of the report\, plan Self-Study on-site visit\, revise the report and refine materials in Evidence Inventory for final approval from stakeholders.
URL:https://sites.monroecc.edu/middle-states/calendar/fall-2025-report-writing/
CATEGORIES:Reaccreditation Updates
END:VEVENT
BEGIN:VEVENT
DTSTART;VALUE=DATE:20250101
DTEND;VALUE=DATE:20250102
DTSTAMP:20260424T195739
CREATED:20240418T123346Z
LAST-MODIFIED:20240418T123346Z
UID:143-1735689600-1735775999@sites.monroecc.edu
SUMMARY:Spring 2025: Working Group Report Submission
DESCRIPTION:Collate documents and evidence\, draft Self-Study Report\, and provide updates to campus community and stakeholders.
URL:https://sites.monroecc.edu/middle-states/calendar/spring-2025-working-group-report-submission/
CATEGORIES:Reaccreditation Updates
END:VEVENT
BEGIN:VEVENT
DTSTART;VALUE=DATE:20240901
DTEND;VALUE=DATE:20240902
DTSTAMP:20260424T195739
CREATED:20240417T190130Z
LAST-MODIFIED:20240418T122440Z
UID:114-1725148800-1725235199@sites.monroecc.edu
SUMMARY:Fall 2024: Document Analysis and Working Group Initial Reports
DESCRIPTION:Analyze collected data and evidence\, engage and support Working Groups\, communicate with and gather feedback from the Campus Community and stakeholders.
URL:https://sites.monroecc.edu/middle-states/calendar/fall-2024-document-analysis-and-working-group-initial-reports/
CATEGORIES:Reaccreditation Updates
END:VEVENT
BEGIN:VEVENT
DTSTART;VALUE=DATE:20240101
DTEND;VALUE=DATE:20240102
DTSTAMP:20260424T195739
CREATED:20240417T200939Z
LAST-MODIFIED:20240418T122858Z
UID:118-1704067200-1704153599@sites.monroecc.edu
SUMMARY:Spring 2024: Self-Study Design and Data Collection
DESCRIPTION:Create a communication plan for stakeholders\, finalize the Self-Study design and templates\, provide resources to mobilize Working Groups.
URL:https://sites.monroecc.edu/middle-states/calendar/spring-2024-self-study-design-and-data-collection/
CATEGORIES:Reaccreditation Updates
END:VEVENT
BEGIN:VEVENT
DTSTART;VALUE=DATE:20230901
DTEND;VALUE=DATE:20230902
DTSTAMP:20260424T195739
CREATED:20240418T122542Z
LAST-MODIFIED:20240418T122542Z
UID:123-1693526400-1693612799@sites.monroecc.edu
SUMMARY:Fall 2023: Preliminary Planning
DESCRIPTION:Establish the Self-Study Steering Committee\, familiarize the Steering Committee with the MSCHE Self-Study process\, requirements\, and standards\, and create a preliminary Self-Study plan.
URL:https://sites.monroecc.edu/middle-states/calendar/fall-2023-preliminary-planning/
CATEGORIES:Reaccreditation Updates
END:VEVENT
END:VCALENDAR