BEGIN:VCALENDAR
VERSION:2.0
PRODID:-//Middle States Reaccreditation - ECPv6.15.20//NONSGML v1.0//EN
CALSCALE:GREGORIAN
METHOD:PUBLISH
X-ORIGINAL-URL:https://sites.monroecc.edu/middle-states
X-WR-CALDESC:Events for Middle States Reaccreditation
REFRESH-INTERVAL;VALUE=DURATION:PT1H
X-Robots-Tag:noindex
X-PUBLISHED-TTL:PT1H
BEGIN:VTIMEZONE
TZID:America/New_York
BEGIN:DAYLIGHT
TZOFFSETFROM:-0500
TZOFFSETTO:-0400
TZNAME:EDT
DTSTART:20230312T070000
END:DAYLIGHT
BEGIN:STANDARD
TZOFFSETFROM:-0400
TZOFFSETTO:-0500
TZNAME:EST
DTSTART:20231105T060000
END:STANDARD
BEGIN:DAYLIGHT
TZOFFSETFROM:-0500
TZOFFSETTO:-0400
TZNAME:EDT
DTSTART:20240310T070000
END:DAYLIGHT
BEGIN:STANDARD
TZOFFSETFROM:-0400
TZOFFSETTO:-0500
TZNAME:EST
DTSTART:20241103T060000
END:STANDARD
BEGIN:DAYLIGHT
TZOFFSETFROM:-0500
TZOFFSETTO:-0400
TZNAME:EDT
DTSTART:20250309T070000
END:DAYLIGHT
BEGIN:STANDARD
TZOFFSETFROM:-0400
TZOFFSETTO:-0500
TZNAME:EST
DTSTART:20251102T060000
END:STANDARD
END:VTIMEZONE
BEGIN:VEVENT
DTSTART;TZID=America/New_York:20241106T120000
DTEND;TZID=America/New_York:20241106T130000
DTSTAMP:20260425T072459
CREATED:20240912T114040Z
LAST-MODIFIED:20240912T114040Z
UID:363-1730894400-1730898000@sites.monroecc.edu
SUMMARY:Steering Committee
DESCRIPTION:
URL:https://sites.monroecc.edu/middle-states/calendar/steering-committee-5/
LOCATION:Zoom
CATEGORIES:Steering Committee
END:VEVENT
BEGIN:VEVENT
DTSTART;TZID=America/New_York:20241023T120000
DTEND;TZID=America/New_York:20241023T130000
DTSTAMP:20260425T072459
CREATED:20240912T114007Z
LAST-MODIFIED:20240912T114007Z
UID:361-1729684800-1729688400@sites.monroecc.edu
SUMMARY:Steering Committee
DESCRIPTION:
URL:https://sites.monroecc.edu/middle-states/calendar/steering-committee-4/
LOCATION:Zoom
CATEGORIES:Steering Committee
END:VEVENT
BEGIN:VEVENT
DTSTART;TZID=America/New_York:20241009T120000
DTEND;TZID=America/New_York:20241009T130000
DTSTAMP:20260425T072459
CREATED:20240912T113922Z
LAST-MODIFIED:20240912T113922Z
UID:359-1728475200-1728478800@sites.monroecc.edu
SUMMARY:Steering Committee
DESCRIPTION:
URL:https://sites.monroecc.edu/middle-states/calendar/steering-committee-3/
LOCATION:Zoom
CATEGORIES:Steering Committee
END:VEVENT
BEGIN:VEVENT
DTSTART;TZID=America/New_York:20240925T120000
DTEND;TZID=America/New_York:20240925T130000
DTSTAMP:20260425T072459
CREATED:20240912T113821Z
LAST-MODIFIED:20240912T113821Z
UID:357-1727265600-1727269200@sites.monroecc.edu
SUMMARY:Steering Committee
DESCRIPTION:
URL:https://sites.monroecc.edu/middle-states/calendar/steering-committee-2/
LOCATION:Zoom
CATEGORIES:Steering Committee
END:VEVENT
BEGIN:VEVENT
DTSTART;TZID=America/New_York:20240911T120000
DTEND;TZID=America/New_York:20240911T130000
DTSTAMP:20260425T072459
CREATED:20240912T113752Z
LAST-MODIFIED:20240912T113752Z
UID:355-1726056000-1726059600@sites.monroecc.edu
SUMMARY:Steering Committee
DESCRIPTION:
URL:https://sites.monroecc.edu/middle-states/calendar/steering-committee/
LOCATION:Zoom
CATEGORIES:Steering Committee
END:VEVENT
BEGIN:VEVENT
DTSTART;TZID=America/New_York:20240603T120000
DTEND;TZID=America/New_York:20240603T130000
DTSTAMP:20260425T072459
CREATED:20240514T125428Z
LAST-MODIFIED:20240514T125428Z
UID:226-1717416000-1717419600@sites.monroecc.edu
SUMMARY:MSCHE Steering Committee Meeting
DESCRIPTION:
URL:https://sites.monroecc.edu/middle-states/calendar/msche-steering-committee-meeting-5/
LOCATION:Zoom
CATEGORIES:Steering Committee
END:VEVENT
BEGIN:VEVENT
DTSTART;TZID=America/New_York:20240513T120000
DTEND;TZID=America/New_York:20240513T130000
DTSTAMP:20260425T072459
CREATED:20240514T125304Z
LAST-MODIFIED:20240514T125304Z
UID:223-1715601600-1715605200@sites.monroecc.edu
SUMMARY:MSCHE Steering Committee Meeting
DESCRIPTION:
URL:https://sites.monroecc.edu/middle-states/calendar/msche-steering-committee-meeting-4/
LOCATION:Zoom
CATEGORIES:Steering Committee
END:VEVENT
BEGIN:VEVENT
DTSTART;TZID=America/New_York:20240415T120000
DTEND;TZID=America/New_York:20240415T130000
DTSTAMP:20260425T072459
CREATED:20240514T125509Z
LAST-MODIFIED:20240514T125509Z
UID:228-1713182400-1713186000@sites.monroecc.edu
SUMMARY:MSCHE Steering Committee Meeting
DESCRIPTION:
URL:https://sites.monroecc.edu/middle-states/calendar/msche-steering-committee-meeting-6/
LOCATION:Zoom
CATEGORIES:Steering Committee
END:VEVENT
BEGIN:VEVENT
DTSTART;TZID=America/New_York:20240311T120000
DTEND;TZID=America/New_York:20240311T130000
DTSTAMP:20260425T072459
CREATED:20240514T125159Z
LAST-MODIFIED:20240514T125159Z
UID:219-1710158400-1710162000@sites.monroecc.edu
SUMMARY:MSCHE Steering Committee Meeting
DESCRIPTION:
URL:https://sites.monroecc.edu/middle-states/calendar/msche-steering-committee-meeting-2/
LOCATION:Zoom
CATEGORIES:Steering Committee
END:VEVENT
BEGIN:VEVENT
DTSTART;TZID=America/New_York:20240216T133000
DTEND;TZID=America/New_York:20240216T143000
DTSTAMP:20260425T072459
CREATED:20240514T124805Z
LAST-MODIFIED:20240514T124805Z
UID:214-1708090200-1708093800@sites.monroecc.edu
SUMMARY:MSCHE Steering Committee Meeting
DESCRIPTION:
URL:https://sites.monroecc.edu/middle-states/calendar/msche-steering-committee-meeting/
LOCATION:Zoom
CATEGORIES:Steering Committee
END:VEVENT
END:VCALENDAR