BEGIN:VCALENDAR
VERSION:2.0
PRODID:-//Middle States Reaccreditation - ECPv6.15.20//NONSGML v1.0//EN
CALSCALE:GREGORIAN
METHOD:PUBLISH
X-ORIGINAL-URL:https://sites.monroecc.edu/middle-states
X-WR-CALDESC:Events for Middle States Reaccreditation
REFRESH-INTERVAL;VALUE=DURATION:PT1H
X-Robots-Tag:noindex
X-PUBLISHED-TTL:PT1H
BEGIN:VTIMEZONE
TZID:America/New_York
BEGIN:DAYLIGHT
TZOFFSETFROM:-0500
TZOFFSETTO:-0400
TZNAME:EDT
DTSTART:20220313T070000
END:DAYLIGHT
BEGIN:STANDARD
TZOFFSETFROM:-0400
TZOFFSETTO:-0500
TZNAME:EST
DTSTART:20221106T060000
END:STANDARD
BEGIN:DAYLIGHT
TZOFFSETFROM:-0500
TZOFFSETTO:-0400
TZNAME:EDT
DTSTART:20230312T070000
END:DAYLIGHT
BEGIN:STANDARD
TZOFFSETFROM:-0400
TZOFFSETTO:-0500
TZNAME:EST
DTSTART:20231105T060000
END:STANDARD
BEGIN:DAYLIGHT
TZOFFSETFROM:-0500
TZOFFSETTO:-0400
TZNAME:EDT
DTSTART:20240310T070000
END:DAYLIGHT
BEGIN:STANDARD
TZOFFSETFROM:-0400
TZOFFSETTO:-0500
TZNAME:EST
DTSTART:20241103T060000
END:STANDARD
BEGIN:DAYLIGHT
TZOFFSETFROM:-0500
TZOFFSETTO:-0400
TZNAME:EDT
DTSTART:20250309T070000
END:DAYLIGHT
BEGIN:STANDARD
TZOFFSETFROM:-0400
TZOFFSETTO:-0500
TZNAME:EST
DTSTART:20251102T060000
END:STANDARD
BEGIN:DAYLIGHT
TZOFFSETFROM:-0500
TZOFFSETTO:-0400
TZNAME:EDT
DTSTART:20260308T070000
END:DAYLIGHT
BEGIN:STANDARD
TZOFFSETFROM:-0400
TZOFFSETTO:-0500
TZNAME:EST
DTSTART:20261101T060000
END:STANDARD
BEGIN:DAYLIGHT
TZOFFSETFROM:-0500
TZOFFSETTO:-0400
TZNAME:EDT
DTSTART:20270314T070000
END:DAYLIGHT
BEGIN:STANDARD
TZOFFSETFROM:-0400
TZOFFSETTO:-0500
TZNAME:EST
DTSTART:20271107T060000
END:STANDARD
END:VTIMEZONE
BEGIN:VEVENT
DTSTART;VALUE=DATE:20260301
DTEND;VALUE=DATE:20260302
DTSTAMP:20260424T211544
CREATED:20240418T124313Z
LAST-MODIFIED:20240418T124655Z
UID:170-1772323200-1772409599@sites.monroecc.edu
SUMMARY:March Focus
DESCRIPTION:MCC on-site evaluation visit.
URL:https://sites.monroecc.edu/middle-states/calendar/march-2026/
CATEGORIES:Monthly Focus
END:VEVENT
BEGIN:VEVENT
DTSTART;VALUE=DATE:20260201
DTEND;VALUE=DATE:20260202
DTSTAMP:20260424T211544
CREATED:20240418T124244Z
LAST-MODIFIED:20240418T124650Z
UID:168-1769904000-1769990399@sites.monroecc.edu
SUMMARY:February Focus
DESCRIPTION:Finalize and submit Self-Study Report and Evidence Inventory.
URL:https://sites.monroecc.edu/middle-states/calendar/february-2026/
CATEGORIES:Monthly Focus
END:VEVENT
BEGIN:VEVENT
DTSTART;VALUE=DATE:20260101
DTEND;VALUE=DATE:20260102
DTSTAMP:20260424T211544
CREATED:20240418T124217Z
LAST-MODIFIED:20240418T124646Z
UID:166-1767225600-1767311999@sites.monroecc.edu
SUMMARY:January Focus
DESCRIPTION:Finalize plans for Self-Study on-site visit.
URL:https://sites.monroecc.edu/middle-states/calendar/january-2026/
CATEGORIES:Monthly Focus
END:VEVENT
BEGIN:VEVENT
DTSTART;VALUE=DATE:20251201
DTEND;VALUE=DATE:20251202
DTSTAMP:20260424T211544
CREATED:20240418T124117Z
LAST-MODIFIED:20240418T124639Z
UID:162-1764547200-1764633599@sites.monroecc.edu
SUMMARY:December Focus
DESCRIPTION:MSCHE Team Chair preliminary visit; Plan Self-Study on-site visit.
URL:https://sites.monroecc.edu/middle-states/calendar/december-2025/
CATEGORIES:Monthly Focus
END:VEVENT
BEGIN:VEVENT
DTSTART;VALUE=DATE:20251101
DTEND;VALUE=DATE:20251102
DTSTAMP:20260424T211544
CREATED:20240418T124046Z
LAST-MODIFIED:20240418T124630Z
UID:160-1761955200-1762041599@sites.monroecc.edu
SUMMARY:November Focus
DESCRIPTION:Revise Self-Study Report based on community\, ELT\, and BOT feedback\, ensuring it reflects MCC accurately and aligns with MSCHE standards and requirements; Plan Self-Study on-site visit.
URL:https://sites.monroecc.edu/middle-states/calendar/november-2025/
CATEGORIES:Monthly Focus
END:VEVENT
BEGIN:VEVENT
DTSTART;VALUE=DATE:20251001
DTEND;VALUE=DATE:20251002
DTSTAMP:20260424T211544
CREATED:20240418T124020Z
LAST-MODIFIED:20240418T124624Z
UID:158-1759276800-1759363199@sites.monroecc.edu
SUMMARY:October Focus
DESCRIPTION:Share the draft Self-Study Report with stakeholders and obtain feedback.
URL:https://sites.monroecc.edu/middle-states/calendar/october-2025/
CATEGORIES:Monthly Focus
END:VEVENT
BEGIN:VEVENT
DTSTART;VALUE=DATE:20250901
DTEND;VALUE=DATE:20250902
DTSTAMP:20260424T211544
CREATED:20240418T123957Z
LAST-MODIFIED:20240418T124618Z
UID:156-1756684800-1756771199@sites.monroecc.edu
SUMMARY:September Focus
DESCRIPTION:Conduct an internal review of the draft Self-Study Report and seek feedback from stakeholders.
URL:https://sites.monroecc.edu/middle-states/calendar/september-2025/
CATEGORIES:Monthly Focus
END:VEVENT
BEGIN:VEVENT
DTSTART;VALUE=DATE:20250404
DTEND;VALUE=DATE:20250405
DTSTAMP:20260424T211544
CREATED:20250115T131916Z
LAST-MODIFIED:20250115T131916Z
UID:539-1743724800-1743811199@sites.monroecc.edu
SUMMARY:Final Working Group Report
DESCRIPTION:
URL:https://sites.monroecc.edu/middle-states/calendar/final-working-group-report/
CATEGORIES:Monthly Focus
END:VEVENT
BEGIN:VEVENT
DTSTART;VALUE=DATE:20250401
DTEND;VALUE=DATE:20250402
DTSTAMP:20260424T211544
CREATED:20240418T123857Z
LAST-MODIFIED:20240418T124612Z
UID:152-1743465600-1743551999@sites.monroecc.edu
SUMMARY:April Focus
DESCRIPTION:Complete initial draft of the Self-Study Report; Review and revise the report with input from Working Groups and stakeholders.
URL:https://sites.monroecc.edu/middle-states/calendar/april-2025/
CATEGORIES:Monthly Focus
END:VEVENT
BEGIN:VEVENT
DTSTART;VALUE=DATE:20250201
DTEND;VALUE=DATE:20250202
DTSTAMP:20260424T211544
CREATED:20240418T123833Z
LAST-MODIFIED:20240418T124558Z
UID:150-1738368000-1738454399@sites.monroecc.edu
SUMMARY:February Focus
DESCRIPTION:Communicate regularly with the campus community about the progress and share drafts of Working Group reports.
URL:https://sites.monroecc.edu/middle-states/calendar/february-2025/
CATEGORIES:Monthly Focus
END:VEVENT
BEGIN:VEVENT
DTSTART;VALUE=DATE:20250101
DTEND;VALUE=DATE:20250102
DTSTAMP:20260424T211544
CREATED:20240418T123808Z
LAST-MODIFIED:20240418T124553Z
UID:148-1735689600-1735775999@sites.monroecc.edu
SUMMARY:January Focus
DESCRIPTION:Review and collate reports from the Working Groups for each standard; Get appropriate approvals and feedback.
URL:https://sites.monroecc.edu/middle-states/calendar/january-2025/
CATEGORIES:Monthly Focus
END:VEVENT
BEGIN:VEVENT
DTSTART;VALUE=DATE:20241101
DTEND;VALUE=DATE:20241102
DTSTAMP:20260424T211544
CREATED:20240418T123512Z
LAST-MODIFIED:20240418T124546Z
UID:146-1730419200-1730505599@sites.monroecc.edu
SUMMARY:November Focus
DESCRIPTION:Working Groups submit drafts of reports for each standard.
URL:https://sites.monroecc.edu/middle-states/calendar/november-2024/
CATEGORIES:Monthly Focus
END:VEVENT
BEGIN:VEVENT
DTSTART;VALUE=DATE:20241001
DTEND;VALUE=DATE:20241002
DTSTAMP:20260424T211544
CREATED:20240417T165423Z
LAST-MODIFIED:20240418T124541Z
UID:110-1727740800-1727827199@sites.monroecc.edu
SUMMARY:October Focus
DESCRIPTION:Working Groups begin drafting the report for each standard and provide opportunities for feedback and input on the report.
URL:https://sites.monroecc.edu/middle-states/calendar/october-2024/
CATEGORIES:Monthly Focus
END:VEVENT
BEGIN:VEVENT
DTSTART;VALUE=DATE:20240901
DTEND;VALUE=DATE:20240902
DTSTAMP:20260424T211544
CREATED:20240417T165107Z
LAST-MODIFIED:20240418T124534Z
UID:108-1725148800-1725235199@sites.monroecc.edu
SUMMARY:September Focus
DESCRIPTION:Analyze institutional documents and policies within the Evidence Inventory.
URL:https://sites.monroecc.edu/middle-states/calendar/september-2024/
CATEGORIES:Monthly Focus
END:VEVENT
BEGIN:VEVENT
DTSTART;VALUE=DATE:20240401
DTEND;VALUE=DATE:20240402
DTSTAMP:20260424T211544
CREATED:20240418T123146Z
LAST-MODIFIED:20240418T124530Z
UID:139-1711929600-1712015999@sites.monroecc.edu
SUMMARY:April Focus
DESCRIPTION:Refine institutional documents and policies within the Evidence Inventory; Self-Study preparation visit: April 22\, 2024.
URL:https://sites.monroecc.edu/middle-states/calendar/april-2024/
CATEGORIES:Monthly Focus
END:VEVENT
BEGIN:VEVENT
DTSTART;VALUE=DATE:20240301
DTEND;VALUE=DATE:20240302
DTSTAMP:20260424T211544
CREATED:20240418T123108Z
LAST-MODIFIED:20240418T124513Z
UID:137-1709251200-1709337599@sites.monroecc.edu
SUMMARY:March Focus
DESCRIPTION:Create a communication plan and timeline regarding 2024-2026 Self-Study; Gather and review relevant data and evidence for the Evidence Inventory; Submit Self-Study design to MSCHE.
URL:https://sites.monroecc.edu/middle-states/calendar/march-2024/
CATEGORIES:Monthly Focus
END:VEVENT
BEGIN:VEVENT
DTSTART;VALUE=DATE:20240201
DTEND;VALUE=DATE:20240202
DTSTAMP:20260424T211544
CREATED:20240418T123043Z
LAST-MODIFIED:20240418T124506Z
UID:135-1706745600-1706831999@sites.monroecc.edu
SUMMARY:February Focus
DESCRIPTION:Familiarize Working Group members and chairs with MSCHE standards\, requirements\, responsibilities\, and templates; Communicate priorities\, accreditation\, and Self-Study process to the campus community and stakeholders and provide opportunities for input and feedback; Begin bi-weekly Working Group and Steering Committee meetings for each standard; Plan for the Self-Study preparation visit.
URL:https://sites.monroecc.edu/middle-states/calendar/february-2024/
CATEGORIES:Monthly Focus
END:VEVENT
BEGIN:VEVENT
DTSTART;VALUE=DATE:20240101
DTEND;VALUE=DATE:20240102
DTSTAMP:20260424T211544
CREATED:20240418T122955Z
LAST-MODIFIED:20240418T124459Z
UID:133-1704067200-1704153599@sites.monroecc.edu
SUMMARY:January Focus
DESCRIPTION:Meeting with VP Judith Sciple\, MSCHE Liaison\, to discuss Self-Study design: January 19\, 2024.
URL:https://sites.monroecc.edu/middle-states/calendar/january-2024/
CATEGORIES:Monthly Focus
END:VEVENT
BEGIN:VEVENT
DTSTART;VALUE=DATE:20231201
DTEND;VALUE=DATE:20231202
DTSTAMP:20260424T211544
CREATED:20240418T122732Z
LAST-MODIFIED:20240418T124452Z
UID:130-1701388800-1701475199@sites.monroecc.edu
SUMMARY:December Focus
DESCRIPTION:Finalize Chairs\, membership for Working Groups and Steering Committee; Set up a project management system and internal Evidence Inventory in Microsoft Teams.
URL:https://sites.monroecc.edu/middle-states/calendar/december-2023/
CATEGORIES:Monthly Focus
END:VEVENT
BEGIN:VEVENT
DTSTART;VALUE=DATE:20231101
DTEND;VALUE=DATE:20231102
DTSTAMP:20260424T211544
CREATED:20240418T122710Z
LAST-MODIFIED:20240418T124446Z
UID:128-1698796800-1698883199@sites.monroecc.edu
SUMMARY:November Focus
DESCRIPTION:Recruit Working Group Chairs and members of each standard; Appoint division liaisons.
URL:https://sites.monroecc.edu/middle-states/calendar/november-2023/
CATEGORIES:Monthly Focus
END:VEVENT
BEGIN:VEVENT
DTSTART;VALUE=DATE:20230901
DTEND;VALUE=DATE:20230902
DTSTAMP:20260424T211544
CREATED:20240418T122643Z
LAST-MODIFIED:20240418T124440Z
UID:126-1693526400-1693612799@sites.monroecc.edu
SUMMARY:September Focus
DESCRIPTION:Appoint Self-Study Co-chairs: Candice Baldwin and Natasha Chen; Attend Virtual Self-Study Institute and establish weekly Leadership Team meetings.
URL:https://sites.monroecc.edu/middle-states/calendar/september-2023/
CATEGORIES:Monthly Focus
END:VEVENT
END:VCALENDAR