BEGIN:VCALENDAR
VERSION:2.0
PRODID:-//Middle States Reaccreditation - ECPv6.15.20//NONSGML v1.0//EN
CALSCALE:GREGORIAN
METHOD:PUBLISH
X-ORIGINAL-URL:https://sites.monroecc.edu/middle-states
X-WR-CALDESC:Events for Middle States Reaccreditation
REFRESH-INTERVAL;VALUE=DURATION:PT1H
X-Robots-Tag:noindex
X-PUBLISHED-TTL:PT1H
BEGIN:VTIMEZONE
TZID:America/New_York
BEGIN:DAYLIGHT
TZOFFSETFROM:-0500
TZOFFSETTO:-0400
TZNAME:EDT
DTSTART:20240310T070000
END:DAYLIGHT
BEGIN:STANDARD
TZOFFSETFROM:-0400
TZOFFSETTO:-0500
TZNAME:EST
DTSTART:20241103T060000
END:STANDARD
BEGIN:DAYLIGHT
TZOFFSETFROM:-0500
TZOFFSETTO:-0400
TZNAME:EDT
DTSTART:20250309T070000
END:DAYLIGHT
BEGIN:STANDARD
TZOFFSETFROM:-0400
TZOFFSETTO:-0500
TZNAME:EST
DTSTART:20251102T060000
END:STANDARD
BEGIN:DAYLIGHT
TZOFFSETFROM:-0500
TZOFFSETTO:-0400
TZNAME:EDT
DTSTART:20260308T070000
END:DAYLIGHT
BEGIN:STANDARD
TZOFFSETFROM:-0400
TZOFFSETTO:-0500
TZNAME:EST
DTSTART:20261101T060000
END:STANDARD
END:VTIMEZONE
BEGIN:VEVENT
DTSTART;VALUE=DATE:20250609
DTEND;VALUE=DATE:20250610
DTSTAMP:20260425T072322
CREATED:20250415T174503Z
LAST-MODIFIED:20250415T174503Z
UID:620-1749427200-1749513599@sites.monroecc.edu
SUMMARY:BOT Meeting
DESCRIPTION:Update to be provided
URL:https://sites.monroecc.edu/middle-states/calendar/bot-meeting/
END:VEVENT
BEGIN:VEVENT
DTSTART;TZID=America/New_York:20250609T103000
DTEND;TZID=America/New_York:20250609T113000
DTSTAMP:20260425T072322
CREATED:20251010T161252Z
LAST-MODIFIED:20251010T161252Z
UID:732-1749465000-1749468600@sites.monroecc.edu
SUMMARY:MSCHE Working Session
DESCRIPTION:
URL:https://sites.monroecc.edu/middle-states/calendar/msche-working-session/
LOCATION:AHY Conference 1-320
CATEGORIES:Working Group Meetings
END:VEVENT
END:VCALENDAR