BEGIN:VCALENDAR
VERSION:2.0
PRODID:-//Middle States Reaccreditation - ECPv6.15.20//NONSGML v1.0//EN
CALSCALE:GREGORIAN
METHOD:PUBLISH
X-ORIGINAL-URL:https://sites.monroecc.edu/middle-states
X-WR-CALDESC:Events for Middle States Reaccreditation
REFRESH-INTERVAL;VALUE=DURATION:PT1H
X-Robots-Tag:noindex
X-PUBLISHED-TTL:PT1H
BEGIN:VTIMEZONE
TZID:America/New_York
BEGIN:DAYLIGHT
TZOFFSETFROM:-0500
TZOFFSETTO:-0400
TZNAME:EDT
DTSTART:20240310T070000
END:DAYLIGHT
BEGIN:STANDARD
TZOFFSETFROM:-0400
TZOFFSETTO:-0500
TZNAME:EST
DTSTART:20241103T060000
END:STANDARD
BEGIN:DAYLIGHT
TZOFFSETFROM:-0500
TZOFFSETTO:-0400
TZNAME:EDT
DTSTART:20250309T070000
END:DAYLIGHT
BEGIN:STANDARD
TZOFFSETFROM:-0400
TZOFFSETTO:-0500
TZNAME:EST
DTSTART:20251102T060000
END:STANDARD
BEGIN:DAYLIGHT
TZOFFSETFROM:-0500
TZOFFSETTO:-0400
TZNAME:EDT
DTSTART:20260308T070000
END:DAYLIGHT
BEGIN:STANDARD
TZOFFSETFROM:-0400
TZOFFSETTO:-0500
TZNAME:EST
DTSTART:20261101T060000
END:STANDARD
END:VTIMEZONE
BEGIN:VEVENT
DTSTART;VALUE=DATE:20250228
DTEND;VALUE=DATE:20250301
DTSTAMP:20260425T114719
CREATED:20250114T205622Z
LAST-MODIFIED:20250123T153034Z
UID:518-1740700800-1740787199@sites.monroecc.edu
SUMMARY:Preliminary Draft of Working Groups Report
DESCRIPTION:
URL:https://sites.monroecc.edu/middle-states/calendar/preliminary-draft-of-working-groups-report/
CATEGORIES:Working Group Meetings
END:VEVENT
END:VCALENDAR